BEGIN:VCALENDAR
VERSION:2.0
PRODID:-//ChamberMaster//Event Calendar 2.0//EN
METHOD:PUBLISH
X-PUBLISHED-TTL:P3D
REFRESH-INTERVAL:P3D
CALSCALE:GREGORIAN
BEGIN:VEVENT
DTSTART:20251221T180000Z
DTEND:20251221T223000Z
X-MICROSOFT-CDO-ALLDAYEVENT:FALSE
SUMMARY:Holiday Horse & Wagon Rides
DESCRIPTION:Let the majestic horses from Hemlock Hidden Hames lead you on a journey through the sights\, sounds\, and twinkling lights of Christmas in downtown Corning. Join us for a memorable ride priced at $5 for children (under 18) and $10 for adults. Embrace the festive spirit in the heart of the city!\n \n\n*TICKETS CANNOT BE PURCHASED IN ADVANCE\, ALL SEATS ARE FIRST COME FIRST SERVE AND CAN BE PURCHASED AS YOU ENTER THE CARRIAGE.\n \n\nOld World Cafe does not sell any tickets nor has anything to do with the horse wagon rides\, the loading station is merely in front of their business. Please\, do not call them for wagon ride inquiries.\n\n\n\nCrystal City Christmas is presented to you by First Heritage Federal Credit Union.
X-ALT-DESC;FMTTYPE=text/html:<p><span style="font-size:14px"><span style="font-family:arial\,helvetica\,sans-serif"><span style="background-color:transparent\; color:rgb(0\, 0\, 0)">Let the majestic horses from Hemlock Hidden Hames lead you on a journey through the sights\, sounds\, and twinkling lights of Christmas in downtown Corning. Join us for a memorable ride priced at $5 for children (under 18) and $10 for adults. Embrace the festive spirit in the heart of the city!</span></span></span></p>\n&nbsp\;\n\n<p><span style="font-size:14px"><span style="font-family:arial\,helvetica\,sans-serif"><span style="background-color:transparent\; color:rgb(0\, 0\, 0)">*TICKETS CANNOT BE PURCHASED IN ADVANCE\, ALL SEATS ARE FIRST COME FIRST SERVE AND CAN BE PURCHASED AS YOU ENTER THE CARRIAGE.</span></span></span></p>\n<span style="font-size:14px"><span style="font-family:arial\,helvetica\,sans-serif">&nbsp\;</span></span>\n\n<p><span style="font-size:14px"><span style="font-family:arial\,helvetica\,sans-serif"><span style="background-color:transparent\; color:rgb(0\, 0\, 0)">Old World Cafe does not sell any tickets nor has anything to do with the horse wagon rides\, the loading station is merely in front of their business. Please\, do not call them for wagon ride inquiries.</span><br />\n<br />\nCrystal City Christmas is presented to you by First Heritage Federal Credit Union.</span></span></p>\n\n<div>&nbsp\;</div>\n
LOCATION:1 West Market Street\, Corning\, NY 14830
UID:e.869.19595
SEQUENCE:3
DTSTAMP:20260421T000842Z
URL:https://www.corningny.com/events/details/holiday-horse-wagon-rides-12-21-2025-19595
END:VEVENT

END:VCALENDAR
