BEGIN:VCALENDAR
VERSION:2.0
PRODID:-//ChamberMaster//Event Calendar 2.0//EN
METHOD:PUBLISH
X-PUBLISHED-TTL:P3D
REFRESH-INTERVAL:P3D
CALSCALE:GREGORIAN
BEGIN:VEVENT
DTSTART;VALUE=DATE:20201205
DTEND;VALUE=DATE:20201207
TRANSP:TRANSPARENT
X-MICROSOFT-CDO-ALLDAYEVENT:TRUE
SUMMARY:Holiday Kickoff
DESCRIPTION:Join us as we warmly welcome the arrival of the holiday season with new twists on old favorites and even a few brand-new traditions to start with your family during the most special time of the year! Kids and teens\, 17 and under\, are always free!\nDiscounted Admission\n\n\n\nNothing says "holidays" like a little sparkle. The Museum is full of all things shimmery\, twinkly\, and sparkly so come see them! Receive 50% off of your admission tickets on December 5 or 6. Locals who qualify for our resident rate (residing in zip codes starting with 148\, 149\, 169) will pay only $5 per adult. Advanced tickets are still required.\n\n \n\nPhoto Opportunities\n\n\n\nWinter is the season of sparkle and shine! From many holiday displays to the snow-white Contemporary Art + Design Galleries and sparkling cut class in the Crystal City Gallery\, we can't wait to see the photo ops you find. Make sure to tag us on Instagram @corningmuseum!\n\n \n\n20% Off in The Shops\n\n\n\nGet a jump start on your holiday shopping and save some money at the same time! Our Shops have gifts for everyone on your list. Stop in and save 20% off on your regularly-priced purchases! \n\n \n\nFestive Hot Glass Demonstrations\n\n\n\nThere's no better way to warm up than by seeing a Hot Glass Demonstration. Watch as our gaffers and flameworkers take molten glass and transform it into beautiful holiday-themed creations! \n\n \n\nHolidays at Home Ornament Project\n\n\n\nStart a new tradition with us as we celebrate creativity this holiday season! Families may purchase Holidays at Home design templates at The Studio or the Museum Admission Desk. You can customize everything about your ornament: colors\, design motif\, and even ornament shape! Together as a family you can enjoy coloring and personalizing your designs safely at home. Once you return your design page\, our team of glass artists will create your ornament from molten glass a keepsake that you can treasure forever.\n\n \n\nThemed Gallery Hunts\n\n\n\nTest your super-sleuthing skills in our galleries! Our Winter Wonders-themed gallery hunt will have you looking for all kinds of wintery objects from chilly to whimsy and everything in between!\n\n \n\nCozy Caf  Offerings\n\n\n\nGet cozy at our Caf . Featuring everything from festive desserts and fanciful hot drinks to family-friendly meals and other special offerings\; you're sure to find more than one delectable treat. \n\n \n\nA Special Gift\n\n\n\nAs a way to say "thank you" for spending some of your holiday time with us\, each family will receive a special thank you gift as they leave the Museum on December 5 or 6. We can't wait to start the season with you!\n\n \n\nDiscounted Make Your Own Glass Experiences\n\n\n\nVisit The Studio for a Make Your Own Glass experience at a special\, discounted rate. Choose from a variety of festive projects for all ages and skill levels and try your hand at glassmaking! Plus\, handmade Make Your Own Glass pieces make great gifts to give or to keep! The number of projects limited due to COVID-19. Advanced reservations are required\, some projects are sold out.
X-ALT-DESC;FMTTYPE=text/html:<span style="color:rgb(1\, 1\, 2)\; font-family:avenirltpro\,serif\; font-size:18px">Join us as we warmly welcome the arrival of the holiday season with new twists on old favorites and even a few brand-new traditions to start with your family during the&nbsp\;</span><span style="color:rgb(1\, 1\, 2)\; font-family:avenirltpro\,serif\; font-size:18px"><span style="font-size:18px">most&nbsp\;</span>special time of the year! Kids and teens\, 17 and under\, are always free!</span>\n<h2 style="font-style:normal\; text-align:start">Discounted Admission</h2>\n\n<div style="background:transparent\; border:0px\; padding:0px\; text-align:start">\n<div style="background:transparent\; border:0px\; padding:0px">\n<p>Nothing says &quot\;holidays&quot\; like a little sparkle. The Museum is full of all things shimmery\, twinkly\, and sparkly&ndash\;so come see them! Receive 50% off of your admission tickets on&nbsp\;December 5 or 6.&nbsp\;<span style="font-size:18px"><span style="font-size:18px"><span style="font-size:18px">Locals who qualify for our resident rate (residing in zip codes starting with 148\, 149\, 169) will pay only $5 per adult.&nbsp\;</span></span></span>Advanced tickets are still required.<br />\n&nbsp\;</p>\n\n<h2 style="font-style:normal\; text-align:start">Photo Opportunities</h2>\n\n<div style="background:transparent\; border:0px\; padding:0px\; text-align:start">\n<div style="background:transparent\; border:0px\; padding:0px">\n<p>Winter is the season of sparkle and shine! From many holiday displays to the&nbsp\;snow-white Contemporary Art + Design Galleries and sparkling cut class in the Crystal City Gallery\, we can&#39\;t wait to see the photo ops you find. Make sure to tag us on Instagram&nbsp\;<a href="https://www.instagram.com/corningmuseum/?hl=en" style="box-sizing: border-box\; margin: 0px\; padding: 0px\; font-size: 18px\; vertical-align: baseline\; background: transparent\; text-decoration: none\; font-weight: 600\; color: rgb(0\, 129\, 160)\; transition: color 0.4s ease 0s\;">@corningmuseum</a>!<br />\n&nbsp\;</p>\n\n<h2 style="font-style:normal\; text-align:start">20% Off in The Shops</h2>\n\n<div style="background:transparent\; border:0px\; padding:0px\; text-align:start">\n<div style="background:transparent\; border:0px\; padding:0px">\n<p>Get a jump start&nbsp\;on&nbsp\;your holiday shopping and save some money at the same time! Our Shops have gifts for everyone on your list. Stop in and save 20% off on&nbsp\;your regularly-priced purchases!&nbsp\;<br />\n&nbsp\;</p>\n\n<h2 style="font-style:normal\; text-align:start">Festive Hot Glass Demonstrations</h2>\n\n<div style="background:transparent\; border:0px\; padding:0px\; text-align:start">\n<div style="background:transparent\; border:0px\; padding:0px">\n<p>There&#39\;s no better way to warm up than by seeing a Hot Glass Demonstration. Watch as our gaffers&nbsp\;and flameworkers take molten glass and transform it into beautiful holiday-themed creations!&nbsp\;<br />\n&nbsp\;</p>\n\n<h2 style="font-style:normal\; text-align:start">Holidays at Home Ornament Project</h2>\n\n<div style="background:transparent\; border:0px\; padding:0px\; text-align:start">\n<div style="background:transparent\; border:0px\; padding:0px">\n<p>Start a new tradition with us as we celebrate creativity this holiday season! Families may purchase&nbsp\;<em>Holidays at Home</em>&nbsp\;design templates&nbsp\;at The Studio or the Museum&nbsp\;Admission Desk.&nbsp\;You can customize everything about your ornament: colors\, design motif\, and even ornament shape! Together as a family you can&nbsp\;enjoy coloring and personalizing your designs&nbsp\;safely at home. Once you return&nbsp\;your design&nbsp\;page\, our team of glass artists will create your&nbsp\;ornament&nbsp\;from molten glass&mdash\;a&nbsp\;keepsake that you can treasure&nbsp\;forever.<br />\n&nbsp\;</p>\n\n<h2 style="font-style:normal\; text-align:start">Themed Gallery Hunts</h2>\n\n<div style="background:transparent\; border:0px\; padding:0px\; text-align:start">\n<div style="background:transparent\; border:0px\; padding:0px">\n<p>Test your super-sleuthing skills in our galleries! Our Winter Wonders-themed gallery hunt will have you looking for all kinds of wintery objects from chilly to whimsy and everything in between!<br />\n&nbsp\;</p>\n\n<h2 style="font-style:normal\; text-align:start">Cozy Caf&eacute\; Offerings</h2>\n\n<div style="background:transparent\; border:0px\; padding:0px\; text-align:start">\n<div style="background:transparent\; border:0px\; padding:0px">\n<p>Get cozy at our Caf&eacute\;. Featuring everything from festive desserts and fanciful hot drinks to family-friendly meals and other special offerings\; you&#39\;re sure to find more than one delectable treat.&nbsp\;<br />\n&nbsp\;</p>\n\n<h2 style="font-style:normal\; text-align:start">A Special Gift</h2>\n\n<div style="background:transparent\; border:0px\; padding:0px\; text-align:start">\n<div style="background:transparent\; border:0px\; padding:0px">\n<p>As a way to say &quot\;thank you&quot\; for spending some of your holiday time with us\, each family will receive a special thank you gift as they leave the Museum on December 5 or 6. We can&#39\;t wait to start the season with you!<br />\n&nbsp\;</p>\n\n<h2 style="font-style:normal\; text-align:start">Discounted Make Your Own Glass Experiences</h2>\n\n<div style="background:transparent\; border:0px\; padding:0px\; text-align:start">\n<div style="background:transparent\; border:0px\; padding:0px">\n<p>Visit The Studio for a<em>&nbsp\;Make Your Own Glass</em>&nbsp\;experience at a special\, discounted rate. Choose from a variety of festive projects for all ages and skill levels&nbsp\;and try your hand at glassmaking! Plus\, handmade&nbsp\;<em>Make Your Own Glass</em>&nbsp\;pieces&nbsp\;make great gifts to give&ndash\;or to keep! The number of projects&nbsp\;limited due to COVID-19. Advanced reservations are required\, some projects are sold out.</p>\n</div>\n</div>\n</div>\n</div>\n</div>\n</div>\n</div>\n</div>\n</div>\n</div>\n</div>\n</div>\n</div>\n</div>\n</div>\n</div>\n</div>\n</div>\n
LOCATION:The Corning Museum of Glass
UID:e.869.11287
SEQUENCE:3
DTSTAMP:20260420T100535Z
URL:https://www.corningny.com/events/details/holiday-kickoff-11287
END:VEVENT

END:VCALENDAR
