BEGIN:VCALENDAR
VERSION:2.0
PRODID:-//ChamberMaster//Event Calendar 2.0//EN
METHOD:PUBLISH
X-PUBLISHED-TTL:P3D
REFRESH-INTERVAL:P3D
CALSCALE:GREGORIAN
BEGIN:VEVENT
DTSTART:20211118T140000Z
DTEND:20220103T220000Z
X-MICROSOFT-CDO-ALLDAYEVENT:FALSE
SUMMARY:Holiday Ornament Tree
DESCRIPTION:In 2008\, the first annual Holiday Ornament Tree showcased more than 600 ornaments handmade by our Hot Glass Show staff. The tree was eight feet tall and four feet in diameter at the bottom. The next year\, the tree grew to 14 feet tall\, with more than 2\,000 glass ornaments made by Museum glassmakers.\n\nThe Museum's glittering ornament tree has now become a holiday tradition   the perfect background for an annual holiday photo. The tree is joined by other wonders in glass\, including a holiday meal made entirely of glass\, as well as a life-sized glass snowperson family. \n\nYou can't buy the ornaments on these trees\, but you can Make Your Own Glass Ornament\, year-round\, at The Studio.
X-ALT-DESC;FMTTYPE=text/html:<p>In 2008\, the first annual Holiday Ornament Tree showcased more than 600 ornaments handmade by our Hot Glass Show staff. The tree was eight feet tall and four feet in diameter at the bottom.&nbsp\;The next year\, the tree grew to 14 feet tall\, with more than 2\,000 glass ornaments made by Museum glassmakers.</p>\n\n<p>The Museum&#39\;s glittering ornament tree has now become a holiday tradition &mdash\; the perfect background for an annual holiday photo. The tree is joined&nbsp\;by other wonders in glass\, including a holiday meal made entirely of glass\, as well as a life-sized glass snowperson family.&nbsp\;</p>\n\n<p>You can&rsquo\;t buy the ornaments on these trees\, but you can&nbsp\;<a href="https://www.cmog.org/visit/make-your-own-glass" style="box-sizing: border-box\; margin: 0px\; padding: 0px\; font-size: 18px\; vertical-align: baseline\; background: transparent\; text-decoration-line: none\; font-weight: 600\; color: rgb(0\, 129\, 133)\; transition: color 0.4s ease 0s\;">Make Your Own Glass Ornament</a>\, year-round\,&nbsp\;at The Studio.</p>\n
LOCATION:The Corning Museum of Glass
UID:e.869.12960
SEQUENCE:3
DTSTAMP:20260425T034713Z
URL:https://www.corningny.com/events/details/holiday-ornament-tree-12960
END:VEVENT

END:VCALENDAR
