BEGIN:VCALENDAR
VERSION:2.0
PRODID:-//ChamberMaster//Event Calendar 2.0//EN
METHOD:PUBLISH
X-PUBLISHED-TTL:P3D
REFRESH-INTERVAL:P3D
CALSCALE:GREGORIAN
BEGIN:VEVENT
DTSTART;VALUE=DATE:20230605
DTEND;VALUE=DATE:20230701
TRANSP:TRANSPARENT
X-MICROSOFT-CDO-ALLDAYEVENT:TRUE
SUMMARY:I Love CMoG Social Media Contest
DESCRIPTION:Are you the #1 glass fan? Show us what you love about The Corning Museum of Glass whether it's the collection\, the demos\, The Studio\, or the Rakow Library for a chance to win a glass grand prize!\n\nThe winner will unlock a CMoG VIP package including: a private Museum tour\, Make Your Own Glass experience for you and five friends\, a gift card to treat yourself at The Shops.
X-ALT-DESC;FMTTYPE=text/html:<p style="margin-left:0px\; margin-right:0px">Are you the #1 glass fan? Show us what you love about The Corning Museum of Glass&mdash\;whether it&rsquo\;s the collection\, the demos\, The Studio\, or the Rakow Library&mdash\;for a chance to win a glass grand prize!</p>\n\n<p>The winner will unlock a&nbsp\;<strong>CMoG VIP package&nbsp\;</strong>including<strong>: a private Museum tour\,&nbsp\;</strong><strong>Make Your Own Glass</strong><strong>&nbsp\;experience for you and five friends\, a gift card to treat yourself at The Shops.&nbsp\;</strong></p>\n
LOCATION:The Corning Museum of Glass
UID:e.869.17162
SEQUENCE:3
DTSTAMP:20260420T133145Z
URL:https://www.corningny.com/events/details/i-love-cmog-social-media-contest-17162
END:VEVENT

END:VCALENDAR
