BEGIN:VCALENDAR
VERSION:2.0
PRODID:-//ChamberMaster//Event Calendar 2.0//EN
METHOD:PUBLISH
X-PUBLISHED-TTL:P3D
REFRESH-INTERVAL:P3D
CALSCALE:GREGORIAN
BEGIN:VEVENT
DTSTART:20230222T180000Z
DTEND:20230222T190000Z
X-MICROSOFT-CDO-ALLDAYEVENT:FALSE
SUMMARY:I'm Dead. Now What? End-of-Life Planning Q&A Session
DESCRIPTION:What's the difference between a will and a trust?\n	Are there tax benefits for using my retirement assets to support charities that are important to me?\n	How often do I need to update my documents?\n	How do I protect my assets from nursing home costs?\n	...where do I event start!?\n\n\n \n\nEnd-of-life planning can feel overwhelming\, but it doesn't have to be! Join us for a FREE informal session where local financial and estate planning experts answer your questions and shed light on everything from how and where to get started all the way up to the more complex scenarios you or your family may face down the road.\n\n\n\nThis session is open to attendees of all ages\, backgrounds\, and stages of planning. \n\n \n\nAttendees will also receive a free copy of the "I'm Dead. Now What?" comprehensive life planner (one per household)\, courtesy of our series sponsor Ray Jewelers\, which will help you gather vital details about your contacts\, legal matters\, health decisions\, financial affairs\, final wishes\, instructions\, and more.\n\n\n\nLEADING THE DISCUSSION: \n\n \n\n\nRoth Elder Law\, PLLC\n\nPatrick J. Roth\, Esq.\, CPA\n\nRonald J. Klokus\, Esq.\, MBA\n\nMichael J. Hamula\, Paralegal\n\n \n\nCFS Group\, Inc.\n\nSabrina Chilson\, CFP \n\n\n\nGenerously Sponsored by: \n\nRay Jewelers
X-ALT-DESC;FMTTYPE=text/html:<ul>\n	<li>What&rsquo\;s the difference between a will and a trust?</li>\n	<li>Are there tax benefits for using my retirement assets to support charities that are important to me?</li>\n	<li>How often do I need to update my documents?</li>\n	<li>How do I protect my assets from nursing home costs?</li>\n	<li>...where do I event start!?</li>\n</ul>\n\n<div>&nbsp\;</div>\n\n<div>End-of-life planning can feel overwhelming\, but it doesn&rsquo\;t have to be! Join us for a <strong>FREE</strong> informal session where local financial and estate planning experts answer your questions and shed light on everything from how and where to get started all the way up to the more complex scenarios you or your family may face down the road.<br />\n<br />\n<strong>This session is open to attendees of all ages\, backgrounds\, and stages of planning.&nbsp\;</strong></div>\n\n<div>&nbsp\;</div>\n\n<div>Attendees will also receive a free copy of the &ldquo\;I&rsquo\;m Dead. Now What?&rdquo\; comprehensive life planner (one per household)\, courtesy of our series sponsor Ray Jewelers\, which will help you gather vital details about your contacts\, legal matters\, health decisions\, financial affairs\, final wishes\, instructions\, and more.</div>\n\n<div>\n<hr />\n<div style="text-align: center\;"><strong>LEADING THE DISCUSSION:&nbsp\;</strong><br />\n&nbsp\;</div>\n</div>\n\n<div style="text-align: center\;"><strong>Roth Elder Law\, PLLC</strong><br />\nPatrick J. Roth\, Esq.\, CPA<br />\nRonald J. Klokus\, Esq.\, MBA<br />\nMichael J. Hamula\, Paralegal<br />\n&nbsp\;</div>\n\n<div style="text-align: center\;"><strong>CFS Group\, Inc.</strong><br />\nSabrina Chilson\, CFP&reg\;</div>\n\n<div style="text-align: center\;"><br />\nGenerously Sponsored by:&nbsp\;<br />\n<a href="http://www.raydiamonds.com">Ray Jewelers</a></div>\n
LOCATION:Clemens Center Upper Lobby 207 Clemens Center Parkway Elmira\, NY 14901
UID:e.869.14049
SEQUENCE:3
DTSTAMP:20260424T142113Z
URL:https://www.corningny.com/events/details/i-m-dead-now-what-end-of-life-planning-q-a-session-14049
END:VEVENT

END:VCALENDAR
