BEGIN:VCALENDAR
VERSION:2.0
PRODID:-//ChamberMaster//Event Calendar 2.0//EN
METHOD:PUBLISH
X-PUBLISHED-TTL:P3D
REFRESH-INTERVAL:P3D
CALSCALE:GREGORIAN
BEGIN:VEVENT
DTSTART;VALUE=DATE:20260625
DTEND;VALUE=DATE:20260629
TRANSP:TRANSPARENT
X-MICROSOFT-CDO-ALLDAYEVENT:TRUE
SUMMARY:IMSA Sahlen's Six Hours of The Glen
DESCRIPTION:Live the thrill of endurance racing with six non-stop hours on the historic road course of Watkins Glen International.\n\nFour different classes of high-performing sportscars hit the track at the same time aiming to conquer the twists and turns of 3.45 miles at The Glen. \n\nOff the track\, your ticket gets you access to the paddocks and garage to get up-close to these racing machines and their drivers.\n\nClick here for ticket information.
X-ALT-DESC;FMTTYPE=text/html:<p>Live the thrill of endurance racing with six non-stop hours on the historic road course of Watkins Glen International.</p>\n\n<p>Four different classes of high-performing sportscars hit the track at the same time aiming to conquer the twists and turns of 3.45 miles at The Glen.&nbsp\;</p>\n\n<p>Off the track\, your ticket gets you access to the paddocks and garage to get up-close to these racing machines and their drivers.</p>\n\n<p>Click&nbsp\;<a href="https://www.theglen.com/events/sahlens-six-hours-of-the-glen/" style="box-sizing: border-box\; border-width: 0px\; border-style: solid\; border-color: rgb(229\, 231\, 235)\; --tw-border-spacing-x: 0\; --tw-border-spacing-y: 0\; --tw-translate-x: 0\; --tw-translate-y: 0\; --tw-rotate: 0\; --tw-skew-x: 0\; --tw-skew-y: 0\; --tw-scale-x: 1\; --tw-scale-y: 1\; --tw-pan-x: \; --tw-pan-y: \; --tw-pinch-zoom: \; --tw-scroll-snap-strictness: proximity\; --tw-gradient-from-position: \; --tw-gradient-via-position: \; --tw-gradient-to-position: \; --tw-ordinal: \; --tw-slashed-zero: \; --tw-numeric-figure: \; --tw-numeric-spacing: \; --tw-numeric-fraction: \; --tw-ring-inset: \; --tw-ring-offset-width: 0px\; --tw-ring-offset-color: #fff\; --tw-ring-color: rgb(59 130 246 / .5)\; --tw-ring-offset-shadow: 0 0 #0000\; --tw-ring-shadow: 0 0 #0000\; --tw-shadow: 0 0 #0000\; --tw-shadow-colored: 0 0 #0000\; --tw-blur: \; --tw-brightness: \; --tw-contrast: \; --tw-grayscale: \; --tw-hue-rotate: \; --tw-invert: \; --tw-saturate: \; --tw-sepia: \; --tw-drop-shadow: \; --tw-backdrop-blur: \; --tw-backdrop-brightness: \; --tw-backdrop-contrast: \; --tw-backdrop-grayscale: \; --tw-backdrop-hue-rotate: \; --tw-backdrop-invert: \; --tw-backdrop-opacity: \; --tw-backdrop-saturate: \; --tw-backdrop-sepia: \; --tw-contain-size: \; --tw-contain-layout: \; --tw-contain-paint: \; --tw-contain-style: \; color: rgb(8\, 128\, 155)\; text-decoration-thickness: inherit\; text-decoration-style: inherit\; text-decoration-color: inherit\; margin-top: 0px\; margin-bottom: 0px\; font-weight: 700\; --tw-text-opacity: 1\; transition-property: color\, background-color\, border-color\, text-decoration-color\, fill\, stroke\; transition-timing-function: ease-out\; transition-duration: 0.3s\;">here</a>&nbsp\;for ticket information.</p>\n
LOCATION:Watkins Glen International 2790 County Route 16 Watkins Glen\, NY 14891
UID:e.869.19612
SEQUENCE:3
DTSTAMP:20260420T113553Z
URL:https://www.corningny.com/events/details/imsa-sahlen-s-six-hours-of-the-glen-19612
END:VEVENT

END:VCALENDAR
