BEGIN:VCALENDAR
VERSION:2.0
PRODID:-//ChamberMaster//Event Calendar 2.0//EN
METHOD:PUBLISH
X-PUBLISHED-TTL:P3D
REFRESH-INTERVAL:P3D
CALSCALE:GREGORIAN
BEGIN:VEVENT
DTSTART:20190123T230000Z
DTEND:20190124T000000Z
X-MICROSOFT-CDO-ALLDAYEVENT:FALSE
SUMMARY:In the Line of Sight: Art\, Privacy and Surveillance
DESCRIPTION:Lecture by Randolph Lewis\, Professor at The University of Texas at Austin and Accomplished Author\n\n\n\nNot too long ago\, many Americans assumed that surveillance was something for criminals and spies to worry about\, not ordinary people. But it's fast becoming something that everyone has to confront in their daily life. After all\, how do make sense of endless security cameras\, TSA scanners\, drones in our skies and Big Data analytics? What does it mean when Silicon Valley executives announce that "privacy is dead"? How should we feel about the fact that powerful surveillance technologies probably know more about our intimate lives than our friends and family? \n\nWhile law professors\, philosophers\, and other scholars have tried to answer these important questions\, some of the most interesting responses have come from contemporary visual artists. Banksy and many lesser known street artists have mocked the authoritarian nature of CCTV cameras with brilliant populist commentary. Artist and geographer Trevor Paglen has been searching for the so-called "Blank Spots on the Map" that reveal what governments hide from their citizens\, even as it increases its scrutiny of our private lives. And photographers such as Arne Svenson have taken surreptitious images of people sleeping in high rise apartments without their knowledge. Although it's not illegal to look into windows in New York City\, what about when you're making a photograph that will be widely viewed in galleries and online? What are the ethics of making art in the age of ubiquitous surveillance? This lecture will explore such questions from a broad\, humanistic perspective.
X-ALT-DESC;FMTTYPE=text/html:<p><span style="font-size:14px"><span style="font-family:times new roman"><em>Lecture by Randolph Lewis\, Professor at The University of Texas at Austin and Accomplished Author</em><br />\n<br />\nNot too long&nbsp\;ago\, many Americans assumed that surveillance was something for criminals and spies to worry about\, not ordinary people. But it&rsquo\;s fast&nbsp\;becoming something that everyone has to confront in their daily life. After all\, how do make sense of endless&nbsp\;security cameras\, TSA scanners\, drones in our skies and Big Data analytics? What does it mean when Silicon Valley&nbsp\;executives announce that&nbsp\;&ldquo\;privacy is dead&rdquo\;? How should we feel about the fact that powerful surveillance technologies probably know more about our intimate lives than our friends and family?&nbsp\;</span></span></p>\n\n<p><span style="font-size:14px"><span style="font-family:times new roman">While law professors\, philosophers\, and other scholars have tried to answer these important questions\, some of the most interesting responses have come from contemporary visual artists. Banksy and many lesser known street artists have mocked the authoritarian nature of CCTV cameras with brilliant populist commentary.&nbsp\;Artist and geographer Trevor Paglen has been searching for the so-called &ldquo\;Blank Spots on the Map&rdquo\; that reveal what governments hide from their citizens\, even as it increases its scrutiny of our private lives. And photographers such as Arne Svenson have taken surreptitious images of people sleeping in high rise apartments without their knowledge. Although it&rsquo\;s not illegal to look into windows in New York City\, what about when you&rsquo\;re making a photograph that will be widely viewed in galleries and online?&nbsp\;What are the ethics of&nbsp\;making art in the age of&nbsp\;ubiquitous&nbsp\;surveillance? This lecture will explore such questions from a broad\, humanistic&nbsp\;perspective.&nbsp\;</span></span></p>\n
LOCATION:The Rockwell Museum
UID:e.869.10097
SEQUENCE:3
DTSTAMP:20260419T122203Z
URL:https://www.corningny.com/events/details/in-the-line-of-sight-art-privacy-and-surveillance-10097
END:VEVENT

END:VCALENDAR
