BEGIN:VCALENDAR
VERSION:2.0
PRODID:-//ChamberMaster//Event Calendar 2.0//EN
METHOD:PUBLISH
X-PUBLISHED-TTL:P3D
REFRESH-INTERVAL:P3D
CALSCALE:GREGORIAN
BEGIN:VEVENT
DTSTART:20190117T230000Z
DTEND:20190118T010000Z
X-MICROSOFT-CDO-ALLDAYEVENT:FALSE
SUMMARY:January 2300°: Finger Lakes Wine & Cider Tastings
DESCRIPTION:This is NOT a dreary January! Enjoy great music\, glassmaking\, and Finger Lakes Wines and Ciders at January's 2300 .\n\nAt 2300  Fahrenheit\, hot glass gets interesting and so do things at The Corning Museum of Glass. Enjoy glassmaking demonstrations\, live music\, and great food and drink. Free and open to the public. Free shuttle bus service from the Museum's I-86 parking lot is available.\n\nLive glassmaking\n\nGet ready to warm things up in a major way. Live glassmaking is always a key element of any 2300 . In January\, glass artist Megan Stelljes brings her bold\, pop culture-inspired designs to the Amphitheater Hot Shop. Can't make it to 2300 ? Catch the live stream and watch Stelljes\, assisted by members of the Hot Glass Team\, create a new work.\n\nLive music\n\nWhat would a 2300  be without rockin' music? We'll announce artists and performers as information becomes available\, but one thing is for sure it's going to be a can't miss show!\n\nFinger Lakes wine and cider tastings\n\nJoin us as we sample some of the region's best wines and ciders. Check back for a full list of participating partners.\n\n2300  Museum Shops sale\n\nTake 23% off your purchase in the Museum Shops\, beginning at 5 pm through the event. Offer valid on all non-sale items.\n\nHot food and cold drinks round out the night\n\nComplimentary soft drinks are available. Food and drinks are also available for purchase.\n\nMake a night of it!\n\nThe Staybridge Suites offers overnight lodging and Museum admission to use before or after this free event. Contact the hotel directly to take advantage of this offer. Enter the dates of the upcoming 2300  event to see the package on the hotel's website or call the property at +1 (607) 936-7800.
X-ALT-DESC;FMTTYPE=text/html:<p>This is NOT a dreary January! Enjoy great music\, glassmaking\, and Finger Lakes Wines and Ciders at January&#39\;s 2300&deg\;.</p>\n\n<p>At 2300&deg\; Fahrenheit\, hot glass gets interesting&mdash\;and so do things at The Corning Museum of Glass. Enjoy glassmaking demonstrations\, live music\, and great food and drink. Free and open to the public.&nbsp\;Free shuttle bus&nbsp\;service from the Museum&rsquo\;s I-86 parking lot is available.</p>\n\n<h2>Live glassmaking</h2>\n\n<p>Get ready to warm things up in a major way. Live glassmaking is always a key element of any 2300&deg\;. In January\, glass artist Megan Stelljes brings her bold\, pop culture-inspired designs to the Amphitheater Hot Shop. Can&#39\;t make it to 2300&deg\;? Catch the live stream and watch Stelljes\, assisted by members of the Hot Glass Team\, create a new work.</p>\n\n<h2>Live music</h2>\n\n<p>What would a 2300&deg\; be without rockin&#39\; music? We&rsquo\;ll announce artists and performers as information becomes available\, but one thing is for sure&mdash\;it&rsquo\;s going to be a can&rsquo\;t miss show!</p>\n\n<h2>Finger Lakes wine and cider tastings</h2>\n\n<p>Join us as we sample some of the region&rsquo\;s best wines and ciders. Check back for a full list of participating partners.</p>\n\n<h2>2300&deg\; Museum Shops sale</h2>\n\n<p>Take 23% off your purchase in the Museum Shops\, beginning at 5 pm through the event. Offer valid on all non-sale items.</p>\n\n<h2>Hot food and cold drinks round out the night</h2>\n\n<p>Complimentary soft drinks are available. Food and drinks are also available for purchase.</p>\n\n<h2>Make a night of it!</h2>\n\n<p>The Staybridge Suites offers overnight lodging and Museum admission to use before or after this free event. <a href="https://www.ihg.com/staybridge/hotels/us/en/corning/crnss/hoteldetail/hotel-packages?qAAR=IKHD1&amp\;qAdlt=1&amp\;qBrs=6c.hi.ex.rs.ic.cp.in.sb.cw.cv.ul.vn&amp\;qChld=0&amp\;qFRA=1&amp\;qGRM=0&amp\;qIta=99585603&amp\;qPSt=0&amp\;qRRSrt=rt&amp\;qRef=df&amp\;qRms=1&amp\;qRpn=1&amp\;qRpp=12&amp\;qRtP=IKHD1&amp\;qSHp=1&amp\;qSmP=3&amp\;qSrt=sBR&amp\;qWch=0&amp\;srb_u=1&amp\;icdv=99585603#scmisc=nav_hotel-packages?qaar=ikhd1&amp\;qadlt=1&amp\;qbrs=6c.hi.ex.rs.ic.cp.in.sb.cw.cv.ul.vn&amp\;qchld=0&amp\;qfra=1&amp\;qgrm=0&amp\;qita=99585603&amp\;qpst=0&amp\;qrrsrt=rt&amp\;qref=df&amp\;qrms=1&amp\;qrpn=1&amp\;qrpp=12&amp\;qrtp=ikhd1&amp\;qshp=1&amp\;qsmp=3&amp\;qsrt=sbr&amp\;qwch=0&amp\;srb_u=1&amp\;icdv=99585603_sb" target="_blank">Contact the hotel directly</a> to take advantage of this offer. Enter the dates of the upcoming 2300&deg\; event to see the package on the hotel&#39\;s website or call the property at +1 (607) 936-7800.</p>\n
LOCATION:The Corning Museum of Glass
UID:e.869.9875
SEQUENCE:3
DTSTAMP:20260419T122205Z
URL:https://www.corningny.com/events/details/january-2300-finger-lakes-wine-cider-tastings-01-17-2019-9875
END:VEVENT

END:VCALENDAR
