BEGIN:VCALENDAR
VERSION:2.0
PRODID:-//ChamberMaster//Event Calendar 2.0//EN
METHOD:PUBLISH
X-PUBLISHED-TTL:P3D
REFRESH-INTERVAL:P3D
CALSCALE:GREGORIAN
BEGIN:VEVENT
DTSTART:20200617T140000Z
DTEND:20200617T150000Z
X-MICROSOFT-CDO-ALLDAYEVENT:FALSE
SUMMARY:Leadership Steuben Commencement
DESCRIPTION:Celebrate the 2020 graduates of the Leadership Steuben Program!\n\n\n\nCommencement Speakers:\n\nMichael Ginalski\, Superintendent\n\nCorning-Painted Post School District\n\n \n\nMichelle Caulfield\, Assistant Superintendent of Secondary Education (Incoming Superintendent)\n\nCorning-Painted Post School District\n\n\n\nPlease RSVP online or by email to jbmorgan@corningny.com\n\nThe meeting link and details will be provided to registrants via email.
X-ALT-DESC;FMTTYPE=text/html:<br />\n<span style="font-size:16px\;">Celebrate the 2020 graduates of the Leadership Steuben Program!<br />\n<br />\nCommencement Speakers:</span><br />\n<span style="font-size:14px\;"><span style="font-family:arial\;">Michael Ginalski\, Superintendent<br />\nCorning-Painted Post School District<br />\n&nbsp\;<br />\nMichelle Caulfield\, Assistant Superintendent of Secondary Education (Incoming Superintendent)<br />\nCorning-Painted Post School District</span></span><br />\n<br />\n<span style="font-size:16px\;">Please RSVP online or by email to&nbsp\;<a href="mailto:jbmorgan@corningny.com">jbmorgan@corningny.com</a></span><br />\n<span style="color:#333333\;"><span style="font-family:helvetica\,sans-serif\;"><span style="font-size:12.0pt\;">The meeting link and details will be provided to registrants via email.</span></span></span><br />\n<br />\n<br />\n&nbsp\;
LOCATION:
UID:e.869.11206
SEQUENCE:3
DTSTAMP:20260425T113941Z
URL:https://www.corningny.com/events/details/leadership-steuben-commencement-11206
END:VEVENT

END:VCALENDAR
