BEGIN:VCALENDAR
VERSION:2.0
PRODID:-//ChamberMaster//Event Calendar 2.0//EN
METHOD:PUBLISH
X-PUBLISHED-TTL:P3D
REFRESH-INTERVAL:P3D
CALSCALE:GREGORIAN
BEGIN:VEVENT
DTSTART:20190131T163000Z
DTEND:20190131T180000Z
X-MICROSOFT-CDO-ALLDAYEVENT:FALSE
SUMMARY:Legislative Roundtable
DESCRIPTION:Program update:  The roundtable will take place as scheduled.  We appreciate our legislators sharing their time\, so despite the weather forecast and school closings\, we will have the event as planned.\n\n \nA forum for our Members to address their business concerns with our elected officials.\n\nSpace is limited\; advance registration is required.\n\n\n \n\nWith Senator Tom O'Mara\, Assemblyman Phil Palmesano\, and a representative of Congressman Tom Reed's office\n\n\n\nYou are invited and encouraged to attend a special roundtable opportunity with our local legislators to talk about current legislative issues\, learn about new issues that might be coming down the line and ask any questions you may have.\n\n \n\n\n\nLunch will be provided.  Please register by Friday\, January 25\n\nPlease plan to arrive at 11:15 so the program can start on time.\n\n\n\nNonmember fee of $10 per person\, payable by cash at event registration
X-ALT-DESC;FMTTYPE=text/html:<br />\n<span style="font-size:18px\;"><strong font-size:="" style="color: rgb(51\, 51\, 51)\; font-family: sans-serif\, Arial\, Verdana\, " trebuchet="">Program update:&nbsp\; The roundtable will take place as scheduled.&nbsp\; We appreciate our legislators sharing their time\, so despite the weather forecast and school closings\, we will have the event as planned.</strong></span><br />\n&nbsp\;\n<p><span style="font-size:16px\;">A forum for our Members to address their business concerns with our elected officials.<br />\nSpace is limited\; advance registration is required.</span></p>\n<br font-size:="" style="color: rgb(51\, 51\, 51)\; font-family: sans-serif\, Arial\, Verdana\, " trebuchet="" />\n<span background-color:="" style="color: rgb(51\, 51\, 51)\; font-family: sans-serif\, Arial\, Verdana\, " trebuchet="">&nbsp\;</span><br font-size:="" style="color: rgb(51\, 51\, 51)\; font-family: sans-serif\, Arial\, Verdana\, " trebuchet="" />\n<span style="font-size:16px\;"><span style="color: rgb(51\, 51\, 51)\; font-family: arial\, sans-serif\;">With Senator Tom O&#39\;Mara\,&nbsp\;Assemblyman Phil Palmesano\, and a representative of Congressman Tom Reed&#39\;s office<br />\n<br />\nYou are invited and encouraged to attend a special roundtable opportunity with our local legislators to talk about current legislative issues\, learn about new issues that might be coming down the line and ask any questions you may have.</span><br font-size:="" style="color: rgb(51\, 51\, 51)\; font-family: sans-serif\, Arial\, Verdana\, " trebuchet="" />\n<span background-color:="" style="color: rgb(51\, 51\, 51)\; font-family: sans-serif\, Arial\, Verdana\, " trebuchet="">&nbsp\;</span><br font-size:="" style="color: rgb(51\, 51\, 51)\; font-family: sans-serif\, Arial\, Verdana\, " trebuchet="" />\n<br />\n<font color="#333333" face="arial\, sans-serif">Lunch will be provided.&nbsp\; Please register by Friday\, January 25<br />\nPlease plan to arrive at 11:15 so the program can start on time.<br />\n<br />\nNonmember fee of $10 per person\, payable by cash at event registration</font></span><br />\n<span background-color:="" style="color: rgb(51\, 51\, 51)\; font-family: sans-serif\, Arial\, Verdana\, " trebuchet="">&nbsp\;</span><br font-size:="" style="color: rgb(51\, 51\, 51)\; font-family: sans-serif\, Arial\, Verdana\, " trebuchet="" />\n&nbsp\;
LOCATION:Radisson Hotel Corning
UID:e.869.10111
SEQUENCE:3
DTSTAMP:20260419T121550Z
URL:https://www.corningny.com/events/details/legislative-roundtable-10111
END:VEVENT

END:VCALENDAR
