BEGIN:VCALENDAR
VERSION:2.0
PRODID:-//ChamberMaster//Event Calendar 2.0//EN
METHOD:PUBLISH
X-PUBLISHED-TTL:P3D
REFRESH-INTERVAL:P3D
CALSCALE:GREGORIAN
BEGIN:VEVENT
DTSTART:20230828T153000Z
DTEND:20230828T170000Z
X-MICROSOFT-CDO-ALLDAYEVENT:FALSE
SUMMARY:Legislative Roundtable with Congressman Langworthy
DESCRIPTION:Join us for a roundtable with Congressman Langworthy.  The Congressman will talk about current issues\, provide updates on his work in DC and locally\, and participate in a Q&A with attendees.\n\n\n\nLunch is included\, therefore advance registration is required.  Please register online here by Wednesday\, August 23.\n\n\n\nUpon arrival at Hardinge:\n\nFollow the signs for the North End Lobby.  Parking is available in front\, along the side and in back of the building.\n\n\n\nThis is a join program of the Chemung County\, Watkins Glen and Corning Area Chambers of Commerce.\n\nGovernment affairs programs are sponsored by Harter\, Secrest & Emery LLP
X-ALT-DESC;FMTTYPE=text/html:<br />\n<span style="font-size:16px\;">Join us for a roundtable with Congressman Langworthy.&nbsp\; The Congressman will talk about current issues\, provide updates on his work in DC and locally\, and participate in a Q&amp\;A with attendees.<br />\n<br />\nLunch is included\, therefore advance registration is required.&nbsp\; Please <a href="https://forms.gle/Ew8gT66aVXJxmaL16">register online here</a>&nbsp\;by Wednesday\, August 23.<br />\n<br />\nUpon arrival at Hardinge:<br />\nFollow the signs for the North End Lobby.&nbsp\; Parking is available in front\, along the side and in back of the building.<br />\n<br />\nThis is a join program of the Chemung County\, Watkins Glen and Corning Area Chambers of Commerce.<br />\nGovernment affairs programs are sponsored by Harter\, Secrest &amp\; Emery LLP</span>
LOCATION:Hardinge 1 Hardinge Drive Elmira\, NY 14903
UID:e.869.17385
SEQUENCE:3
DTSTAMP:20260422T004231Z
URL:https://www.corningny.com/events/details/legislative-roundtable-with-congressman-langworthy-17385
END:VEVENT

END:VCALENDAR
