BEGIN:VCALENDAR
VERSION:2.0
PRODID:-//ChamberMaster//Event Calendar 2.0//EN
METHOD:PUBLISH
X-PUBLISHED-TTL:P3D
REFRESH-INTERVAL:P3D
CALSCALE:GREGORIAN
BEGIN:VEVENT
DTSTART:20220810T150000Z
DTEND:20220810T160000Z
X-MICROSOFT-CDO-ALLDAYEVENT:FALSE
SUMMARY:Little Gather: Doc Possum
DESCRIPTION:Come rock out to the sounds of a local favorite as he revisits hit songs and includes some new songs along the way. Doc has songs that he has written especially for the Museum. Sing along with "Paperweight Pals" and more!\n\n9:30 am show for groups (reservations required)\n\n11 am show for the general public\n\nThe Southeast Steuben County Library will be at every show with an activity demonstration and material list so you can extend the fun to your home. \n\nContact littlegather@cmog.org or +1 (607) 438-5429 to make group reservations or if you have questions.  \n\n\n\nFree Museum Admission\n\n\n\nLittle Gather guests can share FREE Museum admission with their accompanying adults! Immediately following Little Gather performances\, participating kids and adults can visit the rest of the Museum for free. Simply check in at either the Auditorium desk or the Admissions desk. No coupon required\, but adults must be accompanied by kids. Kids under age 18 always enjoy free admission to the Museum\, and local residents receive discounted admission rates.
X-ALT-DESC;FMTTYPE=text/html:<div>\n<div style="background:transparent\; border:0px\; padding:0px">\n<p style="margin-left:0px\; margin-right:0px">Come rock out to the sounds of a local favorite as he revisits hit songs and includes some new songs along the way. Doc has songs that he has written especially for the Museum. Sing along with &ldquo\;Paperweight Pals&rdquo\; and more!</p>\n\n<p>9:30 am show for groups (reservations required)</p>\n\n<p>11 am show for the general public</p>\n\n<p><a href="https://ssclibrary.org/" style="box-sizing: border-box\; margin: 0px\; padding: 0px\; font-size: 18px\; vertical-align: baseline\; background: transparent\; text-decoration-line: none\; font-weight: 600\; color: var(--teal)\; transition: color 0.4s ease 0s\;">The Southeast Steuben County Library</a>&nbsp\;will be at every show with an activity demonstration and material list so you can extend the fun to your home.&nbsp\;</p>\n\n<p>Contact&nbsp\;<a href="mailto:littlegather@cmog.org" style="box-sizing: border-box\; margin: 0px\; padding: 0px\; font-size: 18px\; vertical-align: baseline\; background: transparent\; text-decoration-line: none\; font-weight: 600\; color: var(--teal)\; transition: color 0.4s ease 0s\;">littlegather@cmog.org</a>&nbsp\;or +1 (607) 438-5429 to make group reservations or if you have questions. &nbsp\;</p>\n</div>\n</div>\n\n<h2>Free Museum Admission</h2>\n\n<div>\n<div style="background:transparent\; border:0px\; padding:0px">\n<p style="margin-left:0px\; margin-right:0px">Little Gather guests can share FREE Museum admission with their accompanying adults! Immediately following Little Gather performances\, participating kids and adults can visit the rest of the Museum for free. Simply check in at either the Auditorium desk or the Admissions desk. No coupon required\, but adults must be accompanied by kids. Kids under age 18 always enjoy free admission to the Museum\, and local residents receive discounted admission rates.</p>\n</div>\n</div>\n
LOCATION:
UID:e.869.13807
SEQUENCE:3
DTSTAMP:20260422T053803Z
URL:https://www.corningny.com/events/details/little-gather-doc-possum-08-10-2022-13807
END:VEVENT

END:VCALENDAR
