BEGIN:VCALENDAR
VERSION:2.0
PRODID:-//ChamberMaster//Event Calendar 2.0//EN
METHOD:PUBLISH
X-PUBLISHED-TTL:P3D
REFRESH-INTERVAL:P3D
CALSCALE:GREGORIAN
BEGIN:VEVENT
DTSTART:20190121T140000Z
DTEND:20190121T220000Z
X-MICROSOFT-CDO-ALLDAYEVENT:FALSE
SUMMARY:Martin Luther King Jr. Day: Free Admission
DESCRIPTION:The Rockwell believes in civic engagement and builds community through partnerships and collaboration by sharing the collection. Our commitment to offering authentic educational and arts experiences to our community steers our work every day.\n\nThat's why we're proud to offer free arts experiences on Martin Luther King Jr. Day this year   including access to the new KIDS ROCKWELL Art Lab. We invite you to spend your day off exploring arts and culture right here in your local community centers.
X-ALT-DESC;FMTTYPE=text/html:<p>The Rockwell believes in civic engagement and builds community through partnerships and collaboration by sharing the collection.&nbsp\;Our commitment to offering authentic educational and arts experiences to our community steers our work every day.</p>\n\n<p>That&rsquo\;s why we&rsquo\;re proud to offer&nbsp\;<em>free arts experiences&nbsp\;</em>on Martin Luther King Jr. Day this year &ndash\; including access to the new&nbsp\;<a href="https://rockwellmuseum.org/kids/art-lab/" style="box-sizing: border-box\; -webkit-font-smoothing: antialiased\; text-rendering: optimizelegibility\; transition: all 0.25s ease 0s\; color: rgb(198\, 83\, 59)\; text-decoration-line: none\;">KIDS ROCKWELL Art Lab</a>. We invite you to spend your day off exploring arts and culture right here in your local community centers.&nbsp\;</p>\n
LOCATION:The Rockwell Museum
UID:e.869.10107
SEQUENCE:3
DTSTAMP:20260419T122021Z
URL:https://www.corningny.com/events/details/martin-luther-king-jr-day-free-admission-10107
END:VEVENT

END:VCALENDAR
