BEGIN:VCALENDAR
VERSION:2.0
PRODID:-//ChamberMaster//Event Calendar 2.0//EN
METHOD:PUBLISH
X-PUBLISHED-TTL:P3D
REFRESH-INTERVAL:P3D
CALSCALE:GREGORIAN
BEGIN:VEVENT
DTSTART:20230219T140000Z
DTEND:20230219T220000Z
X-MICROSOFT-CDO-ALLDAYEVENT:FALSE
SUMMARY:Marvelous Marble Day
DESCRIPTION:We're celebrating glass "in the round\," and exploring the Need for Speed this Marble Day! The day's festivities will begin with a 10am presentation joined by National Marble Tournament Representative and Champion Doug Watson\, for an update on what's going on in the national Marble Community. Plus\, stick around for a chance to meet the reigning Marble King and Queen.\n\nThen\, find out how marbles are even more fun when they are in motion! Our Education Lab will be transformed into a Marble Run Maker Space and our 35 Centuries of Glass Gallery will be home to a collection of marble target games and lessons on how to shoot marbles.\n\nJoin us at 11am for an "In the Round" Tour: Need for Speed Edition our Museum Guides will introduce you to round glass and the role that it plays in our collection. (Space is limited\, please reserve your space upon check in\, tour will depart from our Admissions Lobby).
X-ALT-DESC;FMTTYPE=text/html:<p style="margin-left:0px\; margin-right:0px">We&#39\;re celebrating glass &quot\;in the round\,&quot\; and exploring the Need for Speed this Marble Day! The day&rsquo\;s festivities will begin with a 10am presentation joined by National Marble Tournament Representative and Champion Doug Watson\, for an update on what&rsquo\;s going on in the national Marble Community. Plus\, stick around for a chance to meet the reigning Marble King and Queen.</p>\n\n<p>Then\, find out how marbles are even more fun when they are in motion! Our Education Lab will be transformed into a Marble Run Maker Space and our&nbsp\;<a href="https://whatson.cmog.org/exhibitions-galleries/35-centuries-glass" style="box-sizing: border-box\; margin: 0px\; padding: 0px\; vertical-align: baseline\; background: transparent\; text-decoration-line: none\; font-weight: 600\; color: var(--teal)\; transition: color 0.4s ease 0s\;">35 Centuries of Glass Gallery&nbsp\;</a>will be home to a collection of marble target games and lessons on how to shoot marbles.</p>\n\n<p>Join us at 11am for an &ldquo\;In the Round&rdquo\; Tour: Need for Speed Edition&mdash\;our Museum Guides will introduce you to round glass and the role that it plays in our collection. (Space is limited\, please reserve your space upon check in\, tour will depart from our Admissions Lobby).</p>\n
LOCATION:The Corning Museum of Glass
UID:e.869.14031
SEQUENCE:3
DTSTAMP:20260424T155026Z
URL:https://www.corningny.com/events/details/marvelous-marble-day-02-19-2023-14031
END:VEVENT

END:VCALENDAR
