BEGIN:VCALENDAR
VERSION:2.0
PRODID:-//ChamberMaster//Event Calendar 2.0//EN
METHOD:PUBLISH
X-PUBLISHED-TTL:P3D
REFRESH-INTERVAL:P3D
CALSCALE:GREGORIAN
BEGIN:VEVENT
DTSTART:20260617T200000Z
DTEND:20260617T230000Z
X-MICROSOFT-CDO-ALLDAYEVENT:FALSE
SUMMARY:Motors and Music at The Glen
DESCRIPTION:Join us for a relaxing evening of classic cars\, live music\, and friendly competition at the Mission Party Deck! Motors & Music presented by Visions Federal Credit Union brings together car enthusiasts and music lovers in a unique event at the track.\n\nWith a stunning car show\, live tunes from 5-7 p.m.\, and a chance to vote for your favorite vehicle\, this is an event you won't want to miss!\n\nArrive at 4 p.m. for Car Show participation\, or at 5 p.m. to enjoy the music.\n\nJune 17 - Virgil Cain\n\nJuly 22 - Claudia Hoyser\n\nAugust 19 - Logan Route
X-ALT-DESC;FMTTYPE=text/html:<p>Join us for a relaxing evening of classic cars\, live music\, and friendly competition at the Mission Party Deck! Motors &amp\; Music presented by Visions Federal Credit Union brings together car enthusiasts and music lovers in a unique event at the track.</p>\n\n<p>With a stunning car show\, live tunes from 5-7 p.m.\, and a chance to vote for your favorite vehicle\, this is an event you won&rsquo\;t want to miss!</p>\n\n<p>Arrive at 4 p.m. for Car Show participation\, or at 5 p.m. to enjoy the music.</p>\n\n<p><span style="color:rgb(0\, 0\, 0)\; font-family:poppins\,sans-serif\; font-size:18px">June 17 - Virgil Cain</span><br />\n<span style="color:rgb(0\, 0\, 0)\; font-family:poppins\,sans-serif\; font-size:18px">July 22 - Claudia Hoyser</span><br />\n<span style="color:rgb(0\, 0\, 0)\; font-family:poppins\,sans-serif\; font-size:18px">August 19 - Logan Route</span></p>\n
LOCATION:Watkins Glen International 2790 County Route 16 Watkins Glen\, NY 14891
UID:e.869.19610
SEQUENCE:3
DTSTAMP:20260420T124900Z
URL:https://www.corningny.com/events/details/motors-and-music-at-the-glen-19610
END:VEVENT

END:VCALENDAR
