BEGIN:VCALENDAR
VERSION:2.0
PRODID:-//ChamberMaster//Event Calendar 2.0//EN
METHOD:PUBLISH
X-PUBLISHED-TTL:P3D
REFRESH-INTERVAL:P3D
CALSCALE:GREGORIAN
BEGIN:VEVENT
DTSTART:20260411T123000Z
DTEND:20260411T210000Z
X-MICROSOFT-CDO-ALLDAYEVENT:FALSE
SUMMARY:Opening Day Presented by MOTUL at The Glen
DESCRIPTION:Opening Day presented by MOTUL at The Glen provides fans with the opportunity to drive their own vehicle on the 3.45-mile Grand Prix circuit to benefit the Racing and Community Enrichment (R.A.C.E.) Foundation. \n\n \n\nIndividuals and car clubs are both welcome to participate in this unique opportunity to experience one of the most historic circuits in the world first-hand.\n\n \n\nClick here for ticketing and group scheduling information.
X-ALT-DESC;FMTTYPE=text/html:<div>Opening Day presented by MOTUL at The Glen provides fans with the opportunity to drive their own vehicle on the 3.45-mile Grand Prix circuit to benefit the Racing and Community Enrichment (R.A.C.E.) Foundation.&nbsp\;</div>\n\n<div>&nbsp\;</div>\n\n<div>Individuals and car clubs are both welcome to participate in this unique opportunity to experience one of the most historic circuits in the world first-hand.</div>\n\n<div>&nbsp\;</div>\n\n<div>Click&nbsp\;<a href="https://www.theglen.com/events/opening-weekend/" style="box-sizing: border-box\; border-width: 0px\; border-style: solid\; border-color: rgb(229\, 231\, 235)\; --tw-border-spacing-x: 0\; --tw-border-spacing-y: 0\; --tw-translate-x: 0\; --tw-translate-y: 0\; --tw-rotate: 0\; --tw-skew-x: 0\; --tw-skew-y: 0\; --tw-scale-x: 1\; --tw-scale-y: 1\; --tw-pan-x: \; --tw-pan-y: \; --tw-pinch-zoom: \; --tw-scroll-snap-strictness: proximity\; --tw-gradient-from-position: \; --tw-gradient-via-position: \; --tw-gradient-to-position: \; --tw-ordinal: \; --tw-slashed-zero: \; --tw-numeric-figure: \; --tw-numeric-spacing: \; --tw-numeric-fraction: \; --tw-ring-inset: \; --tw-ring-offset-width: 0px\; --tw-ring-offset-color: #fff\; --tw-ring-color: rgb(59 130 246 / .5)\; --tw-ring-offset-shadow: 0 0 #0000\; --tw-ring-shadow: 0 0 #0000\; --tw-shadow: 0 0 #0000\; --tw-shadow-colored: 0 0 #0000\; --tw-blur: \; --tw-brightness: \; --tw-contrast: \; --tw-grayscale: \; --tw-hue-rotate: \; --tw-invert: \; --tw-saturate: \; --tw-sepia: \; --tw-drop-shadow: \; --tw-backdrop-blur: \; --tw-backdrop-brightness: \; --tw-backdrop-contrast: \; --tw-backdrop-grayscale: \; --tw-backdrop-hue-rotate: \; --tw-backdrop-invert: \; --tw-backdrop-opacity: \; --tw-backdrop-saturate: \; --tw-backdrop-sepia: \; --tw-contain-size: \; --tw-contain-layout: \; --tw-contain-paint: \; --tw-contain-style: \; color: rgb(8\, 128\, 155)\; text-decoration-thickness: inherit\; text-decoration-style: inherit\; text-decoration-color: inherit\; margin-top: 0px\; margin-bottom: 0px\; font-weight: 700\; --tw-text-opacity: 1\; transition-property: color\, background-color\, border-color\, text-decoration-color\, fill\, stroke\; transition-timing-function: ease-out\; transition-duration: 0.3s\;">here</a>&nbsp\;for ticketing and group scheduling information.</div>\n
LOCATION:Watkins Glen International 2790 County Route 16 Watkins Glen\, NY 14891
UID:e.869.19606
SEQUENCE:3
DTSTAMP:20260420T180638Z
URL:https://www.corningny.com/events/details/opening-day-presented-by-motul-at-the-glen-19606
END:VEVENT

END:VCALENDAR
