BEGIN:VCALENDAR
VERSION:2.0
PRODID:-//ChamberMaster//Event Calendar 2.0//EN
METHOD:PUBLISH
X-PUBLISHED-TTL:P3D
REFRESH-INTERVAL:P3D
CALSCALE:GREGORIAN
BEGIN:VEVENT
DTSTART;VALUE=DATE:20241003
DTEND;VALUE=DATE:20241004
TRANSP:TRANSPARENT
X-MICROSOFT-CDO-ALLDAYEVENT:TRUE
SUMMARY:Oyster Happy Hour at Quincy Exchange
DESCRIPTION:Happy Hour EVERY Wednesday and Thursday night\, 5-7PM at the bar!  \n\nElement FLX Cuvee and In Our Element Riesling are ONLY $10 a glass\n\nCulture House Beer $6\n\nRotating Oyster Selection is HALF PRICED
X-ALT-DESC;FMTTYPE=text/html:<h4 style="text-align: center\;"><span style="font-size:14px"><span style="font-family:tahoma"><kbd><span style="color:#000000">Happy Hour EVERY Wednesday and Thursday night\, 5-7PM at the bar!&nbsp\;&nbsp\;</span></kbd></span></span></h4>\n\n<h4 style="text-align: center\;"><span style="font-size:14px"><span style="font-family:tahoma"><kbd><span style="color:#000000">Element FLX Cuvee and In Our Element Riesling are ONLY $10 a glass</span></kbd></span></span></h4>\n\n<h4 style="text-align: center\;"><span style="font-size:14px"><span style="font-family:tahoma"><kbd>Culture House Beer $6</kbd></span></span></h4>\n\n<h4 style="text-align: center\;"><span style="font-size:14px"><span style="font-family:tahoma"><kbd>Rotating Oyster Selection is HALF PRICED</kbd></span></span></h4>\n
LOCATION:Quincy Exchange Bar 2 E Market Street Corning\, NY 14830
UID:e.869.18831
SEQUENCE:3
DTSTAMP:20260422T054250Z
URL:https://www.corningny.com/events/details/oyster-happy-hour-at-quincy-exchange-10-03-2024-18831
END:VEVENT

END:VCALENDAR
