BEGIN:VCALENDAR
VERSION:2.0
PRODID:-//ChamberMaster//Event Calendar 2.0//EN
METHOD:PUBLISH
X-PUBLISHED-TTL:P3D
REFRESH-INTERVAL:P3D
CALSCALE:GREGORIAN
BEGIN:VEVENT
DTSTART:20260418T230000Z
DTEND:20260419T013000Z
X-MICROSOFT-CDO-ALLDAYEVENT:FALSE
SUMMARY:Pathways\, Inc. Annual Fundraiser: Golden Gala—Celebrating 50 Years!
DESCRIPTION:Pathways\, Inc. Annual Fundraiser:\n\nGolden Gala - Celebrating 50 Years\n\nSaturday\, April 18\, 2026\, 7:00 9:30 pm\n\nCorning Museum of Glass\, Auditorium\n\n\n\nGet ready to sparkle and celebrate! Pathways\, Inc. and Premier Sponsor Wegmans invite you to join us for our Golden Gala marking 50 years of making a difference in our community! This is a party you don't want to miss!\n\n\n\nThe night will be bursting with excitement dance the night away to Shine\, Rochester's hottest band\, and savor delicious hors d'oeuvres and desserts. Don't forget to strike a pose in our photo booth and enter to win our fabulous door prize!\n\n\n\nEvery ticket helps support vital community programs so while you're having a blast\, you're also making a difference. \n\n\n\nWondering what to wear? It's our 50th Anniversary\, and to help us celebrate in style\, we encourage cocktail attire!\n\n\n\nAll funds raised go toward improving and expanding meaningful opportunities for those we serve to develop their own capabilities.\n\n\n\nTICKETS\n\n$50 per person (adults 18+ only) - Tickets will be available online through April 15\, 2026. No fees! https://pathways-inc-ii.square.site/events \n\nFOLLOW US on Facebook for more details! https://www.facebook.com/share/1DZukxkRhh/\n\n\n\nSPONSORS\n\nWegmans (Premier)\n\nCross Insurance (Platinum)\n\nChemung Canal Trust Company (Gold)\n\nWENY-TV (Gold - Media)\n\nDavis-Ulmer (Silver)\n\nJoe & Kelly Catone and Family (Silver)\n\nSmith RX (Silver)\n\nC&N (Bronze)\n\nCommunity Bank (Bronze)\n\nEMCOR Betlem Services (Bronze)\n\nMengel\, Metzger\, Barr & Co. (Bronze)\n\nSeven Mountains Media (Bronze - Media)\n\nTechline Communications (Bronze)\n\nThe Dunn Group (Friend)\n\nGuthrie (Friend)\n\nRimkus\, Marciano & Associates\, Inc. (Friend)\n\nSedgwick Business Interiors (Friend)
X-ALT-DESC;FMTTYPE=text/html:<p>Pathways\, Inc. Annual Fundraiser:<br />\nGolden Gala - Celebrating 50 Years<br />\nSaturday\, April 18\, 2026\, 7:00&ndash\;9:30 pm<br />\nCorning Museum of Glass\, Auditorium<br />\n<br />\nGet ready to sparkle and celebrate! Pathways\, Inc. and Premier Sponsor Wegmans invite you to join us for our Golden Gala marking 50 years of making a difference in our community! This is a party you don&rsquo\;t want to miss!<br />\n<br />\nThe night will be bursting with excitement&mdash\;dance the night away to Shine\, Rochester&rsquo\;s hottest band\, and savor delicious hors d&rsquo\;oeuvres and desserts. Don&rsquo\;t forget to strike a pose in our photo booth and enter to win our fabulous door prize!<br />\n<br />\nEvery ticket helps support vital community programs&mdash\;so while you&rsquo\;re having a blast\, you&rsquo\;re also making a difference.&nbsp\;<br />\n<br />\nWondering what to wear? It&#39\;s our 50th Anniversary\, and to help us celebrate in style\, we encourage cocktail attire!<br />\n<br />\nAll funds raised go toward improving and expanding meaningful opportunities for those we serve to develop their own capabilities.<br />\n<br />\nTICKETS<br />\n$50 per person (adults 18+ only) - Tickets will be available online through April 15\, 2026. No fees!&nbsp\;https://pathways-inc-ii.square.site/events&nbsp\;</p>\n\n<p>FOLLOW US on Facebook for more details! https://www.facebook.com/share/1DZukxkRhh/<br />\n<br />\nSPONSORS<br />\nWegmans (Premier)<br />\nCross Insurance (Platinum)<br />\nChemung Canal Trust Company (Gold)<br />\nWENY-TV (Gold - Media)<br />\nDavis-Ulmer (Silver)<br />\nJoe &amp\; Kelly Catone and Family (Silver)<br />\nSmith RX (Silver)<br />\nC&amp\;N (Bronze)<br />\nCommunity Bank (Bronze)<br />\nEMCOR Betlem Services (Bronze)<br />\nMengel\, Metzger\, Barr &amp\; Co. (Bronze)<br />\nSeven Mountains Media (Bronze - Media)<br />\nTechline Communications (Bronze)<br />\nThe Dunn Group (Friend)<br />\nGuthrie (Friend)<br />\nRimkus\, Marciano &amp\; Associates\, Inc. (Friend)<br />\nSedgwick Business Interiors (Friend)</p>\n
LOCATION:Corning Museum of Glass (Auditorium)\, One Museum Way\, Corning\, NY 14830
UID:e.869.19672
SEQUENCE:3
DTSTAMP:20260420T180821Z
URL:https://www.corningny.com/events/details/pathways-inc-annual-fundraiser-golden-gala-celebrating-50-years-19672
END:VEVENT

END:VCALENDAR
