BEGIN:VCALENDAR
VERSION:2.0
PRODID:-//ChamberMaster//Event Calendar 2.0//EN
METHOD:PUBLISH
X-PUBLISHED-TTL:P3D
REFRESH-INTERVAL:P3D
CALSCALE:GREGORIAN
BEGIN:VEVENT
DTSTART:20260324T123000Z
DTEND:20260324T140000Z
X-MICROSOFT-CDO-ALLDAYEVENT:FALSE
SUMMARY:Personal Financial Health for Business Owners
DESCRIPTION:Your business is only as strong as the financial foundation that supports it. In this comprehensive educational session\, the Corning Area Chamber of Commerce\, in partnership with Corning Credit Union\, invites local business owners to explore the critical connection between personal financial habits and business success.\n\nParticipants will gain a deeper understanding of how financial decisions impact both day-to-day operations and long-term growth. Topics include:\n\n\n	\n	Cash Flow Management: Learn strategies to optimize cash flow and maintain financial stability.\n	\n	\n	Emergency Planning: Build a safety net to protect your business during unexpected challenges.\n	\n	\n	Business Loan Options: Understand the types of financing available and how to position your business for success.\n	\n	\n	Practical Tools & Insights: Receive actionable advice from experienced financial professionals that you can implement immediately\, whether your business is just getting started or is well established.\n	\n\n\nThis program provides not only valuable knowledge but also an opportunity to connect with peers and financial experts who understand the unique challenges of running a small business. Strengthen your business foundation and take steps toward greater financial confidence and growth.
X-ALT-DESC;FMTTYPE=text/html:<p data-end="306" data-start="169">Your business is only as strong as the financial foundation that supports it. In this comprehensive educational session\, the Corning Area Chamber of Commerce\, in partnership with Corning Credit Union\, invites local&nbsp\;business owners to explore the critical connection between personal financial habits and business success.</p>\n\n<p data-end="793" data-start="647">Participants will gain a deeper understanding of how financial decisions impact both day-to-day operations and long-term growth. Topics include:</p>\n\n<ul data-end="1329" data-start="794">\n	<li data-end="896" data-start="794">\n	<p data-end="896" data-start="796"><strong data-end="821" data-start="796">Cash Flow Management:</strong> Learn strategies to optimize cash flow and maintain financial stability.</p>\n	</li>\n	<li data-end="998" data-start="897">\n	<p data-end="998" data-start="899"><strong data-end="922" data-start="899">Emergency Planning:</strong> Build a safety net to protect your business during unexpected challenges.</p>\n	</li>\n	<li data-end="1120" data-start="999">\n	<p data-end="1120" data-start="1001"><strong data-end="1027" data-start="1001">Business Loan Options:</strong> Understand the types of financing available and how to position your business for success.</p>\n	</li>\n	<li data-end="1329" data-start="1121">\n	<p data-end="1329" data-start="1123"><strong data-end="1154" data-start="1123">Practical Tools &amp\; Insights:</strong> Receive actionable advice from experienced financial professionals that you can implement immediately\, whether your business is just getting started or is well established.</p>\n	</li>\n</ul>\n\n<p data-end="1615" data-start="1331">This program provides not only valuable knowledge but also an opportunity to connect with peers and financial experts who understand the unique challenges of running a small business. Strengthen your business foundation and take steps toward greater financial confidence and growth.</p>\n
LOCATION:The Hilton Garden Inn 23 Riverside Dr. Corning\, NY
UID:e.869.19670
SEQUENCE:3
DTSTAMP:20260421T081441Z
URL:https://www.corningny.com/events/details/personal-financial-health-for-business-owners-19670
END:VEVENT

END:VCALENDAR
