BEGIN:VCALENDAR
VERSION:2.0
PRODID:-//ChamberMaster//Event Calendar 2.0//EN
METHOD:PUBLISH
X-PUBLISHED-TTL:P3D
REFRESH-INTERVAL:P3D
CALSCALE:GREGORIAN
BEGIN:VEVENT
DTSTART:20210225T233000Z
DTEND:20210226T003000Z
X-MICROSOFT-CDO-ALLDAYEVENT:FALSE
SUMMARY:Poetry & Dance Showcase
DESCRIPTION:The ARTS Council presents a showcase of poetry and dance.\n\n\n\nFrom poetry to dance and back again\, this stunning showcase will take you on a journey that took a year to complete. In early 2020 The ARTS Council enlisted three poets and three dancers/choreographers to join us on this challenging project.?\n\n?\n\nIn a special premiere\, we are revealing the entirety of this project in one 15-minute video of poetry and dance. Join us on Thursday\, February 25th at 6:30pm to view the end result of this beautiful collaboration. ?\n\n?\n\nThe video will be screened on Zoom and on The ARTS Council's Facebook Page\, but the panel discussion will only be on Zoom.?\n\n?\n\nDetails: https://www.facebook.com/events/255435599435808
X-ALT-DESC;FMTTYPE=text/html:<strong>The ARTS Council presents a showcase of poetry and dance.</strong><br />\n<br />\nFrom poetry to dance and back again\, this stunning showcase will take you on a journey that took a year to complete. In early 2020 The ARTS Council enlisted three poets and three dancers/choreographers to join us on this challenging project.?<br />\n?<br />\nIn a special premiere\, we are revealing the entirety of this project in one 15-minute video of poetry and dance. Join us on Thursday\, February 25th at 6:30pm to view the end result of this beautiful collaboration. ?<br />\n?<br />\nThe video will be screened on Zoom and on The ARTS Council&#39\;s Facebook Page\, but the panel discussion will only be on Zoom.?<br />\n?<br />\n<strong>Details</strong>:&nbsp\;<a href="https://www.facebook.com/events/255435599435808">https://www.facebook.com/events/255435599435808</a>
LOCATION:The ARTS Council Facebook Page: facebook.com/TheARTSCouncilSFL Zoom: https://us02web.zoom.us/j/88102747984?pwd=OWxqRDZMWnZ1OGxCcmVScnlrN0RQUT09
UID:e.869.11543
SEQUENCE:3
DTSTAMP:20260421T211535Z
URL:https://www.corningny.com/events/details/poetry-dance-showcase-11543
END:VEVENT

END:VCALENDAR
