BEGIN:VCALENDAR
VERSION:2.0
PRODID:-//ChamberMaster//Event Calendar 2.0//EN
METHOD:PUBLISH
X-PUBLISHED-TTL:P3D
REFRESH-INTERVAL:P3D
CALSCALE:GREGORIAN
BEGIN:VEVENT
DTSTART:20211012T230000Z
DTEND:20211013T010000Z
X-MICROSOFT-CDO-ALLDAYEVENT:FALSE
SUMMARY:Poets In Play: Lu Highsmith
DESCRIPTION:Poets In Play\n\nOctober 12\, 7 - 9PM\n\nvia Zoom\n\n \n\nOpening the 7th season of Poets in Play will be Lu Highsmith on October 12th from 7-9pm via Zoom. There is no better way to enjoy a cozy October evening than to pull up a couch\, grab some tea\, and listen to some inspiring poetry by Lu. Following Lu's reading we will host an open mic session. If you'd like to read\, please come prepared with one poem. Your poem can be from your selection or inspired by Lu's prompt: "The myriad of ways you touch me\, without even touching me."\n\n\n\nThis event is free and open to the public via Zoom. https://us02web.zoom.us/j/84869129045\n\n \n\nAbout Lu Highsmith\n\nRochester\, NY native Lu Highsmith has published essays\, news articles and poems over the past twenty-five years. Highsmith is a writer\, publisher\, promoter\, lecturer and spoken word artist. Lu has published two books of poetry\, Vicissitudes: The Ups and Downs of Life and Ascension into Love. For further information\, please visit lucreations.net.
X-ALT-DESC;FMTTYPE=text/html:<div><strong>Poets In Play</strong></div>\n\n<div>October 12\, 7 - 9PM</div>\n\n<div>via Zoom</div>\n\n<div>&nbsp\;</div>\n\n<div>Opening the 7th season of Poets in Play will be Lu Highsmith on October 12th from 7-9pm via Zoom. There is no better way to enjoy a cozy October evening than to pull up a couch\, grab some tea\, and listen to some inspiring poetry by Lu. Following Lu&#39\;s reading we will host an open mic session. If you&#39\;d like to read\, please come prepared with one poem. Your poem can be from your selection or inspired by Lu&#39\;s prompt: &quot\;The myriad of ways you touch me\, without even touching me.&quot\;</div>\n\n<div><br />\nThis event is free and open to the public via Zoom.&nbsp\;<a href="https://us02web.zoom.us/j/84869129045" style="color: rgb(17\, 85\, 204)\;">https://us02web.zoom.us/j/84869129045</a></div>\n\n<div>&nbsp\;</div>\n\n<div><u>About Lu Highsmith</u></div>\n\n<div>Rochester\, NY native Lu Highsmith has published essays\, news articles and poems over the past twenty-five years. Highsmith is a writer\, publisher\, promoter\, lecturer and spoken word artist.&nbsp\;Lu has published two books of poetry\,&nbsp\;<em>Vicissitudes: The Ups and Downs of Life</em>&nbsp\;and&nbsp\;<em>Ascension into Love</em>. For further information\, please visit&nbsp\;<a href="http://lucreations.net/" style="color: rgb(17\, 85\, 204)\;">lucreations.net</a>.</div>\n
LOCATION:Hosted by The ARTS Council via Zoom. https://us02web.zoom.us/j/84869129045
UID:e.869.11949
SEQUENCE:3
DTSTAMP:20260423T114159Z
URL:https://www.corningny.com/events/details/poets-in-play-lu-highsmith-11949
END:VEVENT

END:VCALENDAR
