BEGIN:VCALENDAR
VERSION:2.0
PRODID:-//ChamberMaster//Event Calendar 2.0//EN
METHOD:PUBLISH
X-PUBLISHED-TTL:P3D
REFRESH-INTERVAL:P3D
CALSCALE:GREGORIAN
BEGIN:VEVENT
DTSTART;VALUE=DATE:20191120
DTEND;VALUE=DATE:20191121
TRANSP:TRANSPARENT
X-MICROSOFT-CDO-ALLDAYEVENT:TRUE
SUMMARY:Poets In Play: Rosaire Karij
DESCRIPTION:Poets In Play: Rosaire Karij\n\nMarch 3\, 7:00pm\n\nSoul Full Cup Coffeehouse\, Corning\n\n \n\n\n\nPrompt: "The truth of this life / has yet to be heard."\n\n \nRetired after a long career in women's health care\, Rosaire Karij lives and writes in Ithaca\, NY. She is the author of two books of poetry   Blood and the Word (2017) and Bone Song (2019)  -- and her work was also included in the Foothills Publishing anthology    The Sexuality Poems.\n\n\n\nJoin us for the March 3 edition of Poets In Play with Rosaire Karij  at Soul Full Cup Coffeehouse at 7pm. Rosaire's featured reading will be followed by an inspired open mic session.
X-ALT-DESC;FMTTYPE=text/html:<div style="text-align: center\;"><span style="font-size:16px"><span style="font-family:arial\,helvetica\,sans-serif"><strong>Poets In Play: Rosaire Karij</strong><br />\nMarch 3\, 7:00pm<br />\n<a href="https://www.soulfullcup.com/">Soul Full Cup Coffeehouse</a>\, Corning</span></span></div>\n\n<div>&nbsp\;</div>\n\n<div style="text-align: center\;"><br />\n<span style="font-size:12.0pt"><strong>Prompt</strong>: <em>&quot\;The truth of this life / has yet to be heard.&quot\;</em></span></div>\n\n<div style="text-align: center\;">&nbsp\;</div>\n<span style="font-size:12.0pt">Retired after a long career in women&rsquo\;s health care\, Rosaire Karij lives and writes in Ithaca\, NY. She is the author of two books of poetry &ndash\; <em>Blood and the Word</em> (2017) and <em>Bone Song</em> (2019)&nbsp\; -- and her work was also included in the <a href="http://foothillspublishing.com/">Foothills Publishing</a> anthology &ndash\;&nbsp\; <em>The Sexuality Poems.<br />\n<br />\nJoin us for the March 3 edition of Poets In Play with Rosaire Karij&nbsp\; at Soul Full Cup Coffeehouse at 7pm. Rosaire&#39\;s featured reading will be followed by an inspired open mic session.</em></span><br />\n&nbsp\;
LOCATION:Soul Full Cup Coffeehouse 81 W Market St Corning\, NY
UID:e.869.10799
SEQUENCE:3
DTSTAMP:20260421T094242Z
URL:https://www.corningny.com/events/details/poets-in-play-rosaire-karij-10799
END:VEVENT

END:VCALENDAR
