BEGIN:VCALENDAR
VERSION:2.0
PRODID:-//ChamberMaster//Event Calendar 2.0//EN
METHOD:PUBLISH
X-PUBLISHED-TTL:P3D
REFRESH-INTERVAL:P3D
CALSCALE:GREGORIAN
BEGIN:VEVENT
DTSTART:20260801T113000Z
DTEND:20260801T180000Z
X-MICROSOFT-CDO-ALLDAYEVENT:FALSE
SUMMARY:Potter's Hands Golf Tournament
DESCRIPTION:Spend August 1\, 2026\, on the links at the Indian Hills Golf Course (1959 Indian Hills Road\, Painted Post\, NY 14870) in the fresh air with friends and family. Say yes because it's fun. Say yes because it's healthy. Say yes because you're helping women who have survived trafficking to heal and move forward.
X-ALT-DESC;FMTTYPE=text/html:<h5><span style="font-size:16px">Spend August 1\, 2026\,&nbsp\;on the links at the Indian Hills Golf Course (</span><span style="color:rgb(var(--color_43))"><span style="font-size:16px">1959 Indian Hills Road\, Painted Post\, NY 14870)</span></span><span style="font-size:16px"> in the fresh air with friends and family. Say yes because it&#39\;s fun. Say yes because it&#39\;s healthy. Say yes because you&#39\;re helping women who have survived trafficking to heal and move forward.</span></h5>\n
LOCATION:Indian Hills Golf Course - 1959 Indian Hills Road\, Painted Post\, NY 14870
UID:e.869.19632
SEQUENCE:3
DTSTAMP:20260420T113619Z
URL:https://www.corningny.com/events/details/potter-s-hands-golf-tournament-08-01-2026-19632
END:VEVENT

END:VCALENDAR
