BEGIN:VCALENDAR
VERSION:2.0
PRODID:-//ChamberMaster//Event Calendar 2.0//EN
METHOD:PUBLISH
X-PUBLISHED-TTL:P3D
REFRESH-INTERVAL:P3D
CALSCALE:GREGORIAN
BEGIN:VEVENT
DTSTART:20220928T220000Z
DTEND:20220928T230000Z
X-MICROSOFT-CDO-ALLDAYEVENT:FALSE
SUMMARY:Presented by Ennion: 2022 Ennion Acquisition Reveal
DESCRIPTION:Current Ennion members and general Members are invited to join Katherine (Kate) Larson\, curator of ancient glass\, for the virtual reveal of the 2022 Ennion Acquisition. Attend the live Zoom presentation to learn about the newest Ennion Acquisition\, watch William (Bill) Gudenrath demonstrate glassmaking techniques used in the creation of the acquisition\, and discuss the object and acquisitions process with Kate and Bill in a Q&A session.\n\nThis presentation is offered to all Museum Members through the generous support of Ennion.
X-ALT-DESC;FMTTYPE=text/html:<p style="margin-left:0px\; margin-right:0px">Current Ennion members and general Members are invited to join&nbsp\;<a href="https://www.cmog.org/bio/katherine-larson" style="box-sizing: border-box\; margin: 0px\; padding: 0px\; vertical-align: baseline\; background: transparent\; text-decoration-line: none\; font-weight: 600\; color: var(--teal)\; transition: color 0.4s ease 0s\;">Katherine (Kate) Larson</a>\, curator of ancient glass\, for the virtual reveal of the 2022 Ennion Acquisition. Attend the live Zoom presentation to learn about the newest Ennion Acquisition\, watch&nbsp\;<a href="https://www.cmog.org/bio/william-gudenrath" style="box-sizing: border-box\; margin: 0px\; padding: 0px\; vertical-align: baseline\; background: transparent\; text-decoration-line: none\; font-weight: 600\; color: var(--teal)\; transition: color 0.4s ease 0s\;">William (Bill) Gudenrath</a>&nbsp\;demonstrate glassmaking techniques used in the creation of the acquisition\, and discuss the object and acquisitions process with Kate and Bill in a Q&amp\;A session.</p>\n\n<p>This presentation is offered to all Museum Members through the generous support of Ennion.</p>\n
LOCATION:Online
UID:e.869.13994
SEQUENCE:3
DTSTAMP:20260421T203259Z
URL:https://www.corningny.com/events/details/presented-by-ennion-2022-ennion-acquisition-reveal-13994
END:VEVENT

END:VCALENDAR
