BEGIN:VCALENDAR
VERSION:2.0
PRODID:-//ChamberMaster//Event Calendar 2.0//EN
METHOD:PUBLISH
X-PUBLISHED-TTL:P3D
REFRESH-INTERVAL:P3D
CALSCALE:GREGORIAN
BEGIN:VEVENT
DTSTART:20200130T223000Z
DTEND:20200131T000000Z
X-MICROSOFT-CDO-ALLDAYEVENT:FALSE
SUMMARY:Prints by Women Opening Reception
DESCRIPTION:Join us in celebrating the inaugural spotlight exhibition in our year of Advancing Women. This exhibition includes 46 prints   woodcuts\, lithographs\, drypoints\, etchings\, screenprints and more   ranging from the 19th through the 21st centuries\, each by a different European or American woman artist. Prints by Women uses works from the Georgia Museum of Art's permanent collection to provide a visual chronicle of art by women.
X-ALT-DESC;FMTTYPE=text/html:Join us in celebrating the inaugural spotlight exhibition in our year of&nbsp\;<em>Advancing Women</em>. This exhibition includes 46 prints &mdash\; woodcuts\, lithographs\, drypoints\, etchings\, screenprints and more &mdash\; ranging from the 19th through the 21st centuries\, each by a different European or American woman artist. <em>Prints by Women</em>&nbsp\;uses works from the Georgia Museum of Art&rsquo\;s permanent collection to provide a visual chronicle of art by women.&nbsp\;
LOCATION:The Rockwell Museum
UID:e.869.11113
SEQUENCE:3
DTSTAMP:20260419T140959Z
URL:https://www.corningny.com/events/details/prints-by-women-opening-reception-11113
END:VEVENT

END:VCALENDAR
