BEGIN:VCALENDAR
VERSION:2.0
PRODID:-//ChamberMaster//Event Calendar 2.0//EN
METHOD:PUBLISH
X-PUBLISHED-TTL:P3D
REFRESH-INTERVAL:P3D
CALSCALE:GREGORIAN
BEGIN:VEVENT
DTSTART:20230817T213000Z
DTEND:20230818T003000Z
X-MICROSOFT-CDO-ALLDAYEVENT:FALSE
SUMMARY:Progressive Poetry and Prose Tour
DESCRIPTION:Progressive Poetry & Prose Tour\n\nPresented by The ARTS Council and Facilitated by Michael Czarnecki and Lafayette Wattles\n\nThursday\, August 17\, 5:30-8:30pm\n\nJoin The ARTS Council of the Southern Finger Lakes for a special Progressive Poetry and Prose Tour of two historic sites in Elmira\, NY on Thursday\, August 17 from 5:30-8:30pm.\n\nWe will meet at the Chemung County Historical Society at 5:30pm and travel together on a minibus to Quarry Farm\, the Summer residence of Mark Twain\, where he wrote many of his most famous stories. Once at Quarry Farm\, we will get a quick tour of the property from Steve Webb\, Facilities Manager\, and then gather on the beautiful porch overlooking the Chemung River Valley for some inspired writing.\n\nPoet\, Michael Czarnecki and prose writer\, Lafayette Wattles will be facilitating the inspired writing portions of the evening. Choose whether you'd like to write poetry or prose and feel free to switch it up throughout the event.\n\nFollowing the time spent at Quarry Farm\, we will board the bus and head to Elmira College where Dr. Joseph Lemak\, Director of the Center for Mark Twain Studies\, will give us a brief tour of the famous octagonal study Mark Twain wrote in when he was visiting Quarry Farm. We will then be allowed to wander the grounds of the college and see the statues of Mark Twain and his wife and Elmira College alum\, Olivia Langdon in search of writing inspiration. Michael and Lafayette will work with attendees on the grounds of the college\, each leading with their own creative energy. We will return to the Historical Society around 8:30pm to conclude our evening.\n\nThis event has a registration fee of $10. There are only 20 seats available on the bus so claim your seat soon!\n\nRegister here: https://bit.ly/PoetryProse2023\n\nQuestions? Email Casey Winston\, Programs and Outreach Manager\, at casey@eARTS.org\n\nDetails here: https://www.facebook.com/events/802982598147589
X-ALT-DESC;FMTTYPE=text/html:<p><strong>Progressive Poetry &amp\; Prose Tour</strong><br />\n<strong>Presented by The ARTS Council and Facilitated by Michael Czarnecki and Lafayette Wattles</strong><br />\nThursday\, August 17\, 5:30-8:30pm</p>\n\n<p>Join The ARTS Council of the Southern Finger Lakes for a special Progressive Poetry and Prose Tour of two historic sites in Elmira\, NY on Thursday\, August 17 from 5:30-8:30pm.</p>\n\n<p>We will meet at the Chemung County Historical Society at 5:30pm and travel together on a minibus to Quarry Farm\, the Summer residence of Mark Twain\, where he wrote many of his most famous stories. Once at Quarry Farm\, we will get a quick tour of the property from Steve Webb\, Facilities Manager\, and then gather on the beautiful porch overlooking the Chemung River Valley for some inspired writing.</p>\n\n<p>Poet\, Michael Czarnecki and prose writer\, Lafayette Wattles will be facilitating the inspired writing portions of the evening. Choose whether you&#39\;d like to write poetry or prose and feel free to switch it up throughout the event.</p>\n\n<p>Following the time spent at Quarry Farm\, we will board the bus and head to Elmira College where Dr. Joseph Lemak\, Director of the Center for Mark Twain Studies\, will give us a brief tour of the famous octagonal study Mark Twain wrote in when he was visiting Quarry Farm. We will then be allowed to wander the grounds of the college and see the statues of Mark Twain and his wife and Elmira College alum\, Olivia Langdon in search of writing inspiration. Michael and Lafayette will work with attendees on the grounds of the college\, each leading with their own creative energy. We will return to the Historical Society around 8:30pm to conclude our evening.</p>\n\n<p>This event has a registration fee of $10. There are only 20 seats available on the bus so claim your seat soon!</p>\n\n<p><span style="color:rgb(0\, 0\, 0)">Register here:&nbsp\;<a href="https://l.facebook.com/l.php?u=https%3A%2F%2Fbit.ly%2FPoetryProse2023%3Ffbclid%3DIwAR1jApSsln0mwhpbAnJ-Wyr3b2qCBu-7IJghrY04-aKF8EHVwakKsj3NDwg&amp\;h=AT36XRG5fNirwjQUPtqzACTDAuwBPl0xkKdD3fUyr5kyxOg7_253Q23NzfyH7smVWFEHsNpb7MyEbRVZ2u4HLR3RmPRTy-R-5alh7LXynsfdZrF3GwvAt6MEW1qQr1j42Ka3Ow&amp\;__tn__=q&amp\;c%5B0%5D=AT1Wr-F0Sg7J3Lj5PZ96X3KhCswwe1udXsBPafoNe1eWY0XQn8ZU5YWwgZDXEl57W7Vx9IKhTU8Bz0MN1i9d8UQD5EskZEloS0TrqdkbpYW1EXwOBDzyBbDIJ_EDSIg0BumH2SoYGpQ9zfMBiGHZO1LM6EoP">https://bit.ly/PoetryProse2023</a></span></p>\n\n<p>Questions? Email Casey Winston\, Programs and Outreach Manager\, at <a href="mailto:casey@eARTS.org"><span style="color:rgb(220\, 161\, 13)">casey@eARTS.org</span></a></p>\n\n<p><span style="color:rgb(0\, 0\, 0)">Details here: <a href="https://www.facebook.com/events/802982598147589">https://www.facebook.com/events/802982598147589</a> </span></p>\n
LOCATION:Meet at the Chemung County Historical Society 415 E Water St Elmira\, NY 14901
UID:e.869.17384
SEQUENCE:3
DTSTAMP:20260422T010438Z
URL:https://www.corningny.com/events/details/progressive-poetry-and-prose-tour-08-17-2023-17384
END:VEVENT

END:VCALENDAR
