BEGIN:VCALENDAR
VERSION:2.0
PRODID:-//ChamberMaster//Event Calendar 2.0//EN
METHOD:PUBLISH
X-PUBLISHED-TTL:P3D
REFRESH-INTERVAL:P3D
CALSCALE:GREGORIAN
BEGIN:VEVENT
DTSTART:20210910T210000Z
DTEND:20210910T210000Z
X-MICROSOFT-CDO-ALLDAYEVENT:FALSE
SUMMARY:Ribbon Cutting - K. Rae Salon & Spa
DESCRIPTION:Join us for a ribbon cutting and grand opening celebration!
X-ALT-DESC;FMTTYPE=text/html:<br />\nJoin us for a ribbon cutting and grand opening celebration!
LOCATION:56 East First Street Corning
UID:e.869.11909
SEQUENCE:3
DTSTAMP:20260423T091224Z
URL:https://www.corningny.com/events/details/ribbon-cutting-k-rae-salon-spa-11909
END:VEVENT

END:VCALENDAR
