BEGIN:VCALENDAR
VERSION:2.0
PRODID:-//ChamberMaster//Event Calendar 2.0//EN
METHOD:PUBLISH
X-PUBLISHED-TTL:P3D
REFRESH-INTERVAL:P3D
CALSCALE:GREGORIAN
BEGIN:VEVENT
DTSTART:20210910T140000Z
DTEND:20210910T140000Z
X-MICROSOFT-CDO-ALLDAYEVENT:FALSE
SUMMARY:Ribbon Cutting - Soul Ease Medical Massage
DESCRIPTION:Join us for a ribbon cutting to celebrate Soul Ease Medical Massage!\n\n\n\nFollowing the ribbon cutting\, there will be an open house with tours\, chair massages and gift certificate giveaways until noon.  For more information\, visit their website: http://www.souleasemassage.com
X-ALT-DESC;FMTTYPE=text/html:<br />\n<span style="font-size:16px\;">Join us for a ribbon cutting to celebrate Soul Ease Medical Massage!<br />\n<br />\nFollowing the ribbon cutting\, there will be an open house with tours\, chair massages and gift certificate giveaways until noon.&nbsp\; For more information\, visit their website:&nbsp\;<a href="http://www.souleasemassage.com">http://www.souleasemassage.com</a></span>
LOCATION:55 Ferris St\, Corning
UID:e.869.11902
SEQUENCE:3
DTSTAMP:20260423T091336Z
URL:https://www.corningny.com/events/details/ribbon-cutting-soul-ease-medical-massage-11902
END:VEVENT

END:VCALENDAR
