BEGIN:VCALENDAR
VERSION:2.0
PRODID:-//ChamberMaster//Event Calendar 2.0//EN
METHOD:PUBLISH
X-PUBLISHED-TTL:P3D
REFRESH-INTERVAL:P3D
CALSCALE:GREGORIAN
BEGIN:VEVENT
DTSTART;VALUE=DATE:20260619
DTEND;VALUE=DATE:20260622
TRANSP:TRANSPARENT
X-MICROSOFT-CDO-ALLDAYEVENT:TRUE
SUMMARY:SCCA Majors Super Tour at The Glen
DESCRIPTION:The Sports Car Club of America (SCCA) Super Majors Tour is deeply connected to the history of road racing at The Glen. As the sanctioning body of the original Watkins Glen Grand Prix in 1948\, the SCCA has returned to the historic circuit in many forms since\, from regional races to national championship events.\n\nThe SCCA Majors Super Tour\, established in 2012\, is the pinnacle of amateur championship racing in the United States\, bringing drivers from around the country to compete at one of North America's premier venues.\n\nClick here for ticket information.
X-ALT-DESC;FMTTYPE=text/html:<p>The Sports Car Club of America (SCCA) Super Majors Tour is deeply connected to the history of road racing at The Glen. As the sanctioning body of the original Watkins Glen Grand Prix in 1948\, the SCCA has returned to the historic circuit in many forms since\, from regional races to national championship events.</p>\n\n<p>The SCCA Majors Super Tour\, established in 2012\, is the pinnacle of amateur championship racing in the United States\, bringing drivers from around the country to compete at one of North America&#39\;s premier venues.</p>\n\n<p>Click&nbsp\;<a href="https://www.theglen.com/events/the-glen-scca-majors-super-tour/" style="box-sizing: border-box\; border-width: 0px\; border-style: solid\; border-color: rgb(229\, 231\, 235)\; --tw-border-spacing-x: 0\; --tw-border-spacing-y: 0\; --tw-translate-x: 0\; --tw-translate-y: 0\; --tw-rotate: 0\; --tw-skew-x: 0\; --tw-skew-y: 0\; --tw-scale-x: 1\; --tw-scale-y: 1\; --tw-pan-x: \; --tw-pan-y: \; --tw-pinch-zoom: \; --tw-scroll-snap-strictness: proximity\; --tw-gradient-from-position: \; --tw-gradient-via-position: \; --tw-gradient-to-position: \; --tw-ordinal: \; --tw-slashed-zero: \; --tw-numeric-figure: \; --tw-numeric-spacing: \; --tw-numeric-fraction: \; --tw-ring-inset: \; --tw-ring-offset-width: 0px\; --tw-ring-offset-color: #fff\; --tw-ring-color: rgb(59 130 246 / .5)\; --tw-ring-offset-shadow: 0 0 #0000\; --tw-ring-shadow: 0 0 #0000\; --tw-shadow: 0 0 #0000\; --tw-shadow-colored: 0 0 #0000\; --tw-blur: \; --tw-brightness: \; --tw-contrast: \; --tw-grayscale: \; --tw-hue-rotate: \; --tw-invert: \; --tw-saturate: \; --tw-sepia: \; --tw-drop-shadow: \; --tw-backdrop-blur: \; --tw-backdrop-brightness: \; --tw-backdrop-contrast: \; --tw-backdrop-grayscale: \; --tw-backdrop-hue-rotate: \; --tw-backdrop-invert: \; --tw-backdrop-opacity: \; --tw-backdrop-saturate: \; --tw-backdrop-sepia: \; --tw-contain-size: \; --tw-contain-layout: \; --tw-contain-paint: \; --tw-contain-style: \; color: rgb(8\, 128\, 155)\; text-decoration-thickness: inherit\; text-decoration-style: inherit\; text-decoration-color: inherit\; margin-top: 0px\; margin-bottom: 0px\; font-weight: 700\; --tw-text-opacity: 1\; transition-property: color\, background-color\, border-color\, text-decoration-color\, fill\, stroke\; transition-timing-function: ease-out\; transition-duration: 0.3s\;">here</a>&nbsp\;for ticket information.</p>\n
LOCATION:Watkins Glen International 2790 County Route 16 Watkins Glen\, NY 14891
UID:e.869.19611
SEQUENCE:3
DTSTAMP:20260420T052821Z
URL:https://www.corningny.com/events/details/scca-majors-super-tour-at-the-glen-19611
END:VEVENT

END:VCALENDAR
