BEGIN:VCALENDAR
VERSION:2.0
PRODID:-//ChamberMaster//Event Calendar 2.0//EN
METHOD:PUBLISH
X-PUBLISHED-TTL:P3D
REFRESH-INTERVAL:P3D
CALSCALE:GREGORIAN
BEGIN:VEVENT
DTSTART:20260328T130000Z
DTEND:20260328T160000Z
X-MICROSOFT-CDO-ALLDAYEVENT:FALSE
SUMMARY:Sewing 3: Intro to Patterns and Zipper Installation - Sew a Zippered Pouch
DESCRIPTION:Ready to tackle patterns and zippers? This class introduces you to reading a simple sewing pattern\, understanding grainline and pattern markings\, and laying out your pieces on fabric. You'll learn to install a basic zipper using a zipper foot and create a lined zippered pouch perfect for notions\, cosmetics\, or pencils.\n\n?? Key Skills You Will Unlock\n\n\n	Reading a Simple Pattern\n	Pattern Layout On Grain\n	Zipper Installation\n	Assembling a Lined Project\n\n\n \n\n? Prerequisites\n\nSuccessful completion of Beginner Sewing 2 or equivalent experience is required. You should be comfortable with machine operation\, sewing basic seams\, and implementing clean finishing techniques.\n\n\n\n \n\n?? ALL supplies included in your class fee.  Bring your own sewing machine (out of the box\, if it's new).\n\nTAKE 10% OFF your purchase of TWO sewing classes or 15% off your purchase of THREE sewing classes in this series
X-ALT-DESC;FMTTYPE=text/html:<p>Ready to tackle<strong>&nbsp\;patterns and zippers</strong>? This class introduces you to reading a simple sewing pattern\, understanding grainline and pattern markings\, and laying out your pieces on fabric. You&rsquo\;ll learn to install a basic zipper using a zipper foot and create a&nbsp\;<strong>lined zippered pouch</strong>&mdash\;perfect for notions\, cosmetics\, or pencils.</p>\n\n<h3>??&nbsp\;<strong>Key Skills You Will Unlock</strong></h3>\n\n<ul>\n	<li>Reading a Simple Pattern</li>\n	<li>Pattern Layout On Grain</li>\n	<li>Zipper Installation</li>\n	<li>Assembling a Lined Project</li>\n</ul>\n\n<p>&nbsp\;</p>\n\n<h3><strong>? Prerequisites</strong></h3>\n\n<p>Successful completion of&nbsp\;<strong>Beginner</strong>&nbsp\;<strong>Sewing 2</strong>&nbsp\;or equivalent experience is required. You should be comfortable with machine operation\, sewing basic seams\, and implementing clean finishing techniques.<br />\n<br />\n&nbsp\;</p>\n\n<p><strong>?? ALL supplies included in your class fee.&nbsp\;&nbsp\;</strong><strong>Bring your own sewing machine (out of the box\, if it&#39\;s new).</strong></p>\n\n<p><span style="color:rgb(43\, 0\, 255)"><strong>TAKE 10% OFF your purchase of TWO sewing classes or 15% off your purchase of THREE sewing classes in this series</strong></span></p>\n
LOCATION:Rabbit Row Yarns & Haberdashery 24 E Market St Corning NY 14830
UID:e.869.19638
SEQUENCE:3
DTSTAMP:20260420T191449Z
URL:https://www.corningny.com/events/details/sewing-3-intro-to-patterns-and-zipper-installation-sew-a-zippered-pouch-19638
END:VEVENT

END:VCALENDAR
