BEGIN:VCALENDAR
VERSION:2.0
PRODID:-//ChamberMaster//Event Calendar 2.0//EN
METHOD:PUBLISH
X-PUBLISHED-TTL:P3D
REFRESH-INTERVAL:P3D
CALSCALE:GREGORIAN
BEGIN:VEVENT
DTSTART:20190118T170000Z
DTEND:20190118T230000Z
X-MICROSOFT-CDO-ALLDAYEVENT:FALSE
SUMMARY:Sign Making for the March
DESCRIPTION:There are marches across the country the weekend of January 19th & 20th\, so we're offering two chances to come in and make signs with us! We'll have a couple folding tables set up - with basic crafting supplies - from 12 - 6p on Friday\, January 18th and from 10a - 6p on Saturday\, January 19th.\n\n\n\nWe'll have poster board\, markers\, glue\, and craft/construction paper but we encourage you to bring anything specific you that might want. Also: if you are able to donate any craft supplies\, we would appreciate it! But mostly\, bring your great ideas and your feminist bestie(s)!
X-ALT-DESC;FMTTYPE=text/html:There are marches across the country the weekend of January 19th &amp\; 20th\, so we&#39\;re offering two chances to come in and make signs with us! We&#39\;ll have a couple folding tables set up - with basic crafting supplies - from 12 - 6p on Friday\, January 18th and from 10a - 6p on Saturday\, January 19th.<br />\n<br />\nWe&#39\;ll have poster board\, markers\, glue\, and craft/construction paper but we encourage you to bring anything specific you that might want. Also: if you are able to donate any craft supplies\, we would appreciate it! But mostly\, bring your great ideas and your feminist bestie(s)!
LOCATION:Card Carrying Books & Gifts 15 E. Market St. Ste. 102 Corning\, NY 14830
UID:e.869.10138
SEQUENCE:3
DTSTAMP:20260419T121616Z
URL:https://www.corningny.com/events/details/sign-making-for-the-march-10138
END:VEVENT

END:VCALENDAR
