BEGIN:VCALENDAR
VERSION:2.0
PRODID:-//ChamberMaster//Event Calendar 2.0//EN
METHOD:PUBLISH
X-PUBLISHED-TTL:P3D
REFRESH-INTERVAL:P3D
CALSCALE:GREGORIAN
BEGIN:VEVENT
DTSTART:20260131T233000Z
DTEND:20260201T013000Z
X-MICROSOFT-CDO-ALLDAYEVENT:FALSE
SUMMARY:Skate for Freedom Ice Skating Skate-a-thon
DESCRIPTION:Lace up your skates and glide into a day of fun\, community\, and purpose at the Skate for Freedom Skate-a-Thon\, benefiting the Potter's Hands Foundation. Every lap around the rink helps bring healing\, hope\, and new beginnings to women who have survived human trafficking.\n\n\n\nWhether you're a seasoned skater or stepping on the ice for the first time\, your participation makes a difference. Skate solo or form a team and gather pledges for every lap you complete   because every turn of the rink helps survivors reclaim their independence\, rebuild their confidence\, and rediscover joy.\n\n\n\nEnjoy music\, refreshments\, prizes\, and the warmth of a community coming together for an incredible cause. Let's fill the ice with compassion and movement   because when we skate for freedom\, every glide brings someone closer to theirs.\n\n\n\nJoin us on January 31 and help change lives\, one lap at a time.
X-ALT-DESC;FMTTYPE=text/html:<span style="font-family:times new roman\,serif">Lace up your skates and glide into a day of fun\, community\, and purpose at the&nbsp\;</span><strong><span style="font-family:times new roman\,serif">Skate for Freedom Skate-a-Thon</span></strong><span style="font-family:times new roman\,serif">\, benefiting the&nbsp\;</span><strong><span style="font-family:times new roman\,serif">Potter&rsquo\;s Hands Foundation</span></strong><span style="font-family:times new roman\,serif">. Every lap around the rink helps bring healing\, hope\, and new beginnings to women who have survived human trafficking.</span><br />\n<br />\n<span style="font-family:times new roman\,serif">Whether you&rsquo\;re a seasoned skater or stepping on the ice for the first time\, your participation makes a difference. Skate solo or form a team and gather pledges for every lap you complete &mdash\; because every turn of the rink helps survivors reclaim their independence\, rebuild their confidence\, and rediscover joy.</span><br />\n<br />\n<span style="font-family:times new roman\,serif">Enjoy music\, refreshments\, prizes\, and the warmth of a community coming together for an incredible cause. Let&rsquo\;s fill the ice with compassion and movement &mdash\; because when we skate for freedom\, every glide brings someone closer to theirs.</span><br />\n<br />\n<strong><span style="font-family:times new roman\,serif">Join us on January 31 and help change lives\, one lap at a time.</span></strong>
LOCATION:Nasser Civic Center Ice Rink 8 Civic Center Plaza Corning\, NY 14830
UID:e.869.19628
SEQUENCE:3
DTSTAMP:20260420T214425Z
URL:https://www.corningny.com/events/details/skate-for-freedom-ice-skating-skate-a-thon-19628
END:VEVENT

END:VCALENDAR
