BEGIN:VCALENDAR
VERSION:2.0
PRODID:-//ChamberMaster//Event Calendar 2.0//EN
METHOD:PUBLISH
X-PUBLISHED-TTL:P3D
REFRESH-INTERVAL:P3D
CALSCALE:GREGORIAN
BEGIN:VEVENT
DTSTART:20211019T180000Z
DTEND:20211019T190000Z
X-MICROSOFT-CDO-ALLDAYEVENT:FALSE
SUMMARY:Small Business Group
DESCRIPTION:These roundtable sessions provide an opportunity to come together to work through economic and financial issues and share concerns\, creative ideas and solutions. \n\nIf you have suggestions on topics you'd like to see discussed\, please let us know.\n\n\n\n\n\nGroup meetings will be the third Tuesday each month at 2:00 pm. \n\n\n\nIf you would like to participate\, please email jbmorgan@corningny.com to register.  The Zoom meeting link and call in information will be provided to registrants via email.
X-ALT-DESC;FMTTYPE=text/html:<br />\n<span style="color:#202020\;"><span style="font-family:helvetica\,sans-serif\;"><span style="font-size:12.0pt\;">These roundtable sessions provide an opportunity to come together to work through economic and financial issues and share concerns\, creative ideas and solutions.&nbsp\;<br />\nIf you have suggestions on topics you&#39\;d like to see discussed\, please let us know.</span></span></span><br />\n<br />\n<br />\n<span style="color:#0d475f"><span style="font-size:16px"><strong>Group meetings will be the third Tuesday each month at 2:00 pm.&nbsp\;<br />\n<br />\nIf you would like to participate\, please email <a href="mailto:jbmorgan@corningny.com?subject=Small%20Business%20Roundtable" target="_blank">jbmorgan@corningny.com</a> to register.&nbsp\; The Zoom meeting link and call in information will be provided to registrants via email.</strong></span></span>
LOCATION:
UID:e.869.11952
SEQUENCE:3
DTSTAMP:20260423T114210Z
URL:https://www.corningny.com/events/details/small-business-group-10-19-2021-11952
END:VEVENT

END:VCALENDAR
