BEGIN:VCALENDAR
VERSION:2.0
PRODID:-//ChamberMaster//Event Calendar 2.0//EN
METHOD:PUBLISH
X-PUBLISHED-TTL:P3D
REFRESH-INTERVAL:P3D
CALSCALE:GREGORIAN
BEGIN:VEVENT
DTSTART:20201201T190000Z
DTEND:20201201T200000Z
X-MICROSOFT-CDO-ALLDAYEVENT:FALSE
SUMMARY:Small Business Roundtable
DESCRIPTION:These roundtable sessions provide an opportunity to come together to work through economic and financial issues and share concerns\, creative ideas and solutions.  With most businesses reopened now\, the group will shift from weekly meetings to a more flexible schedule.  If you have suggestions on topics you'd like to see discussed\, please let us know.\n\n\n\nThe discussions will be moderated by Barry Nicholson\, Owner of Connors Mercantile\, Pure Design\, Yesterdays and The UPS Store\, and Michael Reese\, Owner of Express Employment Professionals.\n\nSmall business owners\, entrepreneurs\, business professionals\, and anyone interested in supporting the local business community are invited to participate.\n\n\n\nGroup meetings will be every other Tuesday at 2:00 pm\, through the end of the year. \n\n\n\nIf you would like to participate\, please email jbmorgan@corningny.com to register.  The Zoom meeting link and call in information will be provided with registrants via email.
X-ALT-DESC;FMTTYPE=text/html:<br />\n<span style="color:#202020\;"><span style="font-family:helvetica\,sans-serif\;"><span style="font-size:12.0pt\;">These roundtable sessions provide an opportunity to come together to work through economic and financial issues and share concerns\, creative ideas and solutions.&nbsp\; With most businesses reopened now\, the group will shift from weekly meetings to a more flexible schedule.&nbsp\; If you have suggestions on topics you&#39\;d like to see discussed\, please let us know.<br />\n<br />\nThe discussions will be moderated by Barry Nicholson\, Owner of Connors Mercantile\, Pure Design\, Yesterdays and The UPS Store\, and Michael Reese\, Owner of Express Employment Professionals.<br />\nSmall business owners\, entrepreneurs\, business professionals\, and anyone interested in supporting the local business community are invited to participate.</span></span></span><br />\n<br />\n<span style="color:#0d475f"><span style="font-size:16px"><strong>Group meetings will be every other Tuesday at 2:00 pm\, through the end of the year.&nbsp\;<br />\n<br />\nIf you would like to participate\, please email <a href="mailto:jbmorgan@corningny.com?subject=Small%20Business%20Roundtable" target="_blank">jbmorgan@corningny.com</a> to register.&nbsp\; The Zoom meeting link and call in information will be provided with registrants via email.</strong></span></span>
LOCATION:
UID:e.869.11276
SEQUENCE:3
DTSTAMP:20260422T152158Z
URL:https://www.corningny.com/events/details/small-business-roundtable-12-01-2020-11276
END:VEVENT

END:VCALENDAR
