BEGIN:VCALENDAR
VERSION:2.0
PRODID:-//ChamberMaster//Event Calendar 2.0//EN
METHOD:PUBLISH
X-PUBLISHED-TTL:P3D
REFRESH-INTERVAL:P3D
CALSCALE:GREGORIAN
BEGIN:VEVENT
DTSTART:20230816T223000Z
DTEND:20230816T233000Z
X-MICROSOFT-CDO-ALLDAYEVENT:FALSE
SUMMARY:STORIES WITH MUSIC FREE - OSFL Woodwind Quintet
DESCRIPTION:Stories with Music is a collaboration between the Orchestra of the Southern Finger Lakes and your local library. Meet the orchestra musicians\, and get to know the instruments up close with educational demonstrations. Want to learn more? Check out the featured story book or other books about the orchestra. \n\nThe OSFL Woodwind Quintet features Laura Campbell (flute)\, Richard MacDowell (clarinet)\, Lesley McClelland (oboe)\, David Resig (bassoon)\, and Claire Tuxill McKenney (french horn). \n\nThis program was made possible in part by Hale Roofing\, the Floyd "Vic" Hooker Fund at the Community Foundation for the Twin Tiers\, New York State Council on the Arts's Decentralization Program\, administered regionally by The ARTS Council of the Southern Finger Lakes\, the Upstate Theater Coalition for a Fairgame\, and Johnson-Schmidt & Associates\, Architects. \n\nFor our full Stories with Music schedule please go to www.OSFL.org/storieswithmusic. *Program and dates subject to change
X-ALT-DESC;FMTTYPE=text/html:<p style="margin-left:0.09999847412109375pt\; margin-right:5.03424072265625pt"><span style="color:rgb(5\, 5\, 5)\; font-family:arial\,sans-serif\; font-size:10pt">Stories with Music is a collaboration between the Orchestra of the Southern Finger Lakes and your local</span><span style="background-color:transparent\; color:rgb(5\, 5\, 5)\; font-family:arial\,sans-serif\; font-size:10pt"> </span><span style="color:rgb(5\, 5\, 5)\; font-family:arial\,sans-serif\; font-size:10pt">library. Meet the orchestra musicians\, and get to know the instruments up close with educational</span><span style="background-color:transparent\; color:rgb(5\, 5\, 5)\; font-family:arial\,sans-serif\; font-size:10pt"> </span><span style="color:rgb(5\, 5\, 5)\; font-family:arial\,sans-serif\; font-size:10pt">demonstrations. Want to learn more? Check out the featured story book or other books about the</span><span style="background-color:transparent\; color:rgb(5\, 5\, 5)\; font-family:arial\,sans-serif\; font-size:10pt"> </span><span style="color:rgb(5\, 5\, 5)\; font-family:arial\,sans-serif\; font-size:10pt">orchestra.</span><span style="background-color:transparent\; color:rgb(5\, 5\, 5)\; font-family:arial\,sans-serif\; font-size:10pt">&nbsp\;</span></p>\n\n<p style="margin-right:24.336181640625pt"><span style="color:rgb(5\, 5\, 5)\; font-family:arial\,sans-serif\; font-size:10pt">The OSFL Woodwind Quintet features Laura Campbell (flute)\, Richard MacDowell (clarinet)\, Lesley</span><span style="background-color:transparent\; color:rgb(5\, 5\, 5)\; font-family:arial\,sans-serif\; font-size:10pt"> </span><span style="color:rgb(5\, 5\, 5)\; font-family:arial\,sans-serif\; font-size:10pt">McClelland (oboe)\, David Resig (bassoon)\, and Claire Tuxill McKenney (french horn).</span><span style="background-color:transparent\; color:rgb(5\, 5\, 5)\; font-family:arial\,sans-serif\; font-size:10pt">&nbsp\;</span></p>\n\n<p style="margin-left:-0.12999725341796875pt"><span style="color:rgb(5\, 5\, 5)\; font-family:arial\,sans-serif\; font-size:10pt">This program was made possible in part by Hale Roofing\, the Floyd &quot\;Vic&quot\; Hooker Fund at the Community</span><span style="background-color:transparent\; color:rgb(5\, 5\, 5)\; font-family:arial\,sans-serif\; font-size:10pt"> </span><span style="color:rgb(5\, 5\, 5)\; font-family:arial\,sans-serif\; font-size:10pt">Foundation for the Twin Tiers\, New York State Council on the Arts&rsquo\;s Decentralization Program\,</span><span style="background-color:transparent\; color:rgb(5\, 5\, 5)\; font-family:arial\,sans-serif\; font-size:10pt"> </span><span style="color:rgb(5\, 5\, 5)\; font-family:arial\,sans-serif\; font-size:10pt">administered regionally by The ARTS Council of the Southern Finger Lakes\, the Upstate Theater</span><span style="background-color:transparent\; color:rgb(5\, 5\, 5)\; font-family:arial\,sans-serif\; font-size:10pt"> </span><span style="color:rgb(5\, 5\, 5)\; font-family:arial\,sans-serif\; font-size:10pt">Coalition for a Fairgame\, and Johnson-Schmidt &amp\; Associates\, Architects.</span><span style="background-color:transparent\; color:rgb(5\, 5\, 5)\; font-family:arial\,sans-serif\; font-size:10pt">&nbsp\;</span></p>\n\n<p style="margin-left:0.07999420166015625pt\; margin-right:83.8111572265625pt"><span style="color:rgb(5\, 5\, 5)\; font-family:arial\,sans-serif\; font-size:10pt">For our full Stories with Music schedule please go to </span><span style="color:rgb(17\, 85\, 204)\; font-family:arial\,sans-serif\; font-size:10pt">www.OSFL.org/storieswithmusic</span><span style="color:rgb(5\, 5\, 5)\; font-family:arial\,sans-serif\; font-size:10pt">.</span><span style="background-color:transparent\; color:rgb(5\, 5\, 5)\; font-family:arial\,sans-serif\; font-size:10pt"> </span><span style="color:rgb(5\, 5\, 5)\; font-family:arial\,sans-serif\; font-size:10pt">*Program and dates subject to change</span><span style="background-color:transparent\; color:rgb(5\, 5\, 5)\; font-family:arial\,sans-serif\; font-size:10pt">&nbsp\;</span></p>\n\n<div>&nbsp\;</div>\n
LOCATION:Rawley Park\, 13334 Rt. 38\, Richford\, NY 13835
UID:e.869.17379
SEQUENCE:3
DTSTAMP:20260422T004513Z
URL:https://www.corningny.com/events/details/stories-with-music-free-osfl-woodwind-quintet-08-16-2023-17379
END:VEVENT

END:VCALENDAR
