BEGIN:VCALENDAR
VERSION:2.0
PRODID:-//ChamberMaster//Event Calendar 2.0//EN
METHOD:PUBLISH
X-PUBLISHED-TTL:P3D
REFRESH-INTERVAL:P3D
CALSCALE:GREGORIAN
BEGIN:VEVENT
DTSTART;VALUE=DATE:20220624
DTEND;VALUE=DATE:20220903
TRANSP:TRANSPARENT
X-MICROSOFT-CDO-ALLDAYEVENT:TRUE
SUMMARY:Summer Synergy: A 171 & West End Gallery Collaboration
DESCRIPTION:Featuring | Alan and Rosemary Bennett | Cynthia Cratsley| Ileen Kaplan \n\nExhibition Reception | Friday\, June 24\, 2022 | 5 - 7 PM.
X-ALT-DESC;FMTTYPE=text/html:<span style="background-color:rgb(255\, 255\, 255)\; color:rgb(138\, 138\, 135)\; font-family:whitney a\,whitney b\; font-size:18px">Featuring | Alan and Rosemary Bennett | Cynthia Cratsley| Ileen Kaplan&nbsp\;</span><br />\nExhibition Reception | Friday\, June 24\, 2022 | 5 - 7 PM.
LOCATION:
UID:e.869.13720
SEQUENCE:3
DTSTAMP:20260421T190220Z
URL:https://www.corningny.com/events/details/summer-synergy-a-171-west-end-gallery-collaboration-13720
END:VEVENT

END:VCALENDAR
