BEGIN:VCALENDAR
VERSION:2.0
PRODID:-//ChamberMaster//Event Calendar 2.0//EN
METHOD:PUBLISH
X-PUBLISHED-TTL:P3D
REFRESH-INTERVAL:P3D
CALSCALE:GREGORIAN
BEGIN:VEVENT
DTSTART:20191109T230000Z
DTEND:20191110T020000Z
X-MICROSOFT-CDO-ALLDAYEVENT:FALSE
SUMMARY:The Arc of Steuben - Art for the Arc
DESCRIPTION:Saturday\, November 9\, 2019\n\nFrom 6 pm to 9 pm\n\nGlenn H. Curtis Museum\n\n8419 State Route 54\n\nHammondsport\, NY 14840\n\nSilent Auction\n\nWine & Beer Tastings\n\nDistillery & Cider Tastings\n\nRaffles Live Music\n\nHors d' oeuvres\n\nFeaturing Artwork from Local Artists Including\n\nOriginal Pieces Created by the Arc of Steuben\n\n\n\n\n\nPurchase Tickets\n\nTickets are $20 and all proceeds benefit the Arc of Steuben. To order tickets\, please go to arcofsteuben.org/art-fro-the-arc and fill out the available form and mail check to Arc of Steuben\, One Arc Way\n\nBath\, NY 14810\n\n\n\nIf you have any questions please call us at The Arc at 607-776-4146
X-ALT-DESC;FMTTYPE=text/html:<div class="et_pb_module et_pb_text et_pb_text_0 et_pb_bg_layout_light  et_pb_text_align_left" style="box-sizing: border-box\; margin: 0px 0px 23.0781px\; padding: 0px\; border: 0px\; outline: 0px\; background: center center / cover no-repeat rgb(255\, 255\, 255)\; font-size: 18px\; vertical-align: baseline\; text-size-adjust: 100%\; overflow-wrap: break-word\; animation-timing-function: linear\; animation-duration: 0.2s\; color: rgb(112\, 112\, 112)\; font-family: &quot\;Nunito Sans&quot\;\, Helvetica\, Arial\, Lucida\, sans-serif\;">\n<div class="et_pb_text_inner" style="box-sizing: border-box\; margin: 0px\; padding: 0px\; border: 0px\; outline: 0px\; background: 0px 0px\; vertical-align: baseline\; text-size-adjust: 100%\; position: relative\;">\n<p style="box-sizing: border-box\; margin: 0px\; padding: 0px 0px 1em\; border: 0px\; outline: 0px\; background: 0px 0px\; vertical-align: baseline\; text-size-adjust: 100%\; text-align: center\;"><span style="box-sizing: border-box\; margin: 0px\; padding: 0px\; border: 0px\; outline: 0px\; background: 0px 0px\; vertical-align: baseline\; text-size-adjust: 100%\; font-weight: 700\;">Saturday\, November 9\, 2019</span></p>\n\n<p style="box-sizing: border-box\; margin: 0px\; padding: 0px 0px 1em\; border: 0px\; outline: 0px\; background: 0px 0px\; vertical-align: baseline\; text-size-adjust: 100%\; text-align: center\;"><span style="box-sizing: border-box\; margin: 0px\; padding: 0px\; border: 0px\; outline: 0px\; background: 0px 0px\; vertical-align: baseline\; text-size-adjust: 100%\; font-weight: 700\;">From 6 pm to 9 pm</span></p>\n\n<p style="box-sizing: border-box\; margin: 0px\; padding: 0px 0px 1em\; border: 0px\; outline: 0px\; background: 0px 0px\; vertical-align: baseline\; text-size-adjust: 100%\; text-align: center\;">Glenn H. Curtis Museum<br style="box-sizing: border-box\;" />\n8419 State Route 54<br style="box-sizing: border-box\;" />\nHammondsport\, NY 14840</p>\n\n<p style="box-sizing: border-box\; margin: 0px\; padding: 0px 0px 1em\; border: 0px\; outline: 0px\; background: 0px 0px\; vertical-align: baseline\; text-size-adjust: 100%\; text-align: center\;">Silent Auction<br style="box-sizing: border-box\;" />\nWine &amp\; Beer Tastings<br style="box-sizing: border-box\;" />\nDistillery &amp\; Cider Tastings<br style="box-sizing: border-box\;" />\nRaffles Live Music<br style="box-sizing: border-box\;" />\nHors d&rsquo\; oeuvres</p>\n\n<p style="box-sizing: border-box\; margin: 0px\; padding: 0px\; border: 0px\; outline: 0px\; background: 0px 0px\; vertical-align: baseline\; text-size-adjust: 100%\; text-align: center\;">Featuring Artwork from Local Artists Including<br style="box-sizing: border-box\;" />\nOriginal Pieces Created by the Arc of Steuben</p>\n</div>\n</div>\n\n<div class="et_pb_module et_pb_text et_pb_text_1 et_pb_bg_layout_light  et_pb_text_align_center" style="box-sizing: border-box\; margin: 0px 0px 23.0781px\; padding: 0px\; border: 0px\; outline: 0px\; background: center center / cover no-repeat rgb(255\, 255\, 255)\; font-size: 18px\; vertical-align: baseline\; text-size-adjust: 100%\; overflow-wrap: break-word\; text-align: center\; animation-timing-function: linear\; animation-duration: 0.2s\; color: rgb(112\, 112\, 112)\; font-family: &quot\;Nunito Sans&quot\;\, Helvetica\, Arial\, Lucida\, sans-serif\;">\n<div class="et_pb_text_inner" style="box-sizing: border-box\; margin: 0px\; padding: 0px\; border: 0px\; outline: 0px\; background: 0px 0px\; vertical-align: baseline\; text-size-adjust: 100%\; position: relative\;">\n<h3 style="box-sizing: border-box\; margin: 0px\; padding: 0px 0px 10px\; border: 0px\; outline: 0px\; background: 0px 0px\; font-size: 22px\; vertical-align: baseline\; text-size-adjust: 100%\; color: rgb(234\, 113\, 37)\; font-weight: 500\; line-height: 1.3em\;">Purchase Tickets</h3>\n\n<p style="box-sizing: border-box\; margin: 0px\; padding: 0px\; border: 0px\; outline: 0px\; background: 0px 0px\; vertical-align: baseline\; text-size-adjust: 100%\;">Tickets are $20 and all proceeds benefit the Arc of Steuben. To order tickets\, please go to arcofsteuben.org/art-fro-the-arc and fill out the available form and mail check to Arc of Steuben\, One Arc Way<br />\nBath\, NY 14810<br />\n<br />\nIf you have any questions please call us at The Arc at 607-776-4146</p>\n</div>\n</div>\n
LOCATION:Glenn H. Curtis Museum 8419 State Route 54 Hammondsport\, NY 14840
UID:e.869.10768
SEQUENCE:3
DTSTAMP:20260423T080659Z
URL:https://www.corningny.com/events/details/the-arc-of-steuben-art-for-the-arc-10768
END:VEVENT

END:VCALENDAR
