BEGIN:VCALENDAR
VERSION:2.0
PRODID:-//ChamberMaster//Event Calendar 2.0//EN
METHOD:PUBLISH
X-PUBLISHED-TTL:P3D
REFRESH-INTERVAL:P3D
CALSCALE:GREGORIAN
BEGIN:VEVENT
DTSTART:20260221T140000Z
DTEND:20260221T160000Z
X-MICROSOFT-CDO-ALLDAYEVENT:FALSE
SUMMARY:The Art of the Toe-Up Sock Knitting
DESCRIPTION:Join us for an immersive\, two-session workshop where you'll learn the efficient way to knit socks: Toe-Up. Knitting from the toe up allows you to try on your sock as you go\, ensuring a perfect fit every time. Whether you want to focus on one sock at a time or tackle "Two-at-a-Time" to beat second-sock syndrome\, Sara will walk you through each row with expert tips and tricks.\n\n?? Skills Covered\n\n        Seamless Beginnings: Learn Jenny's Magic Cast-On for a smooth\, comfortable toe.\n\n        The Short Row Heel: Navigate a sleek\, sturdy heel construction  \n\n        Reading Your Stitches: Gain the confidence to identify your place in a pattern and understand your fabric.\n\n        Custom Sizing: Use your shoe size to calculate dimensions for a comfortable fit.\n\n        One or Two at a Time: Focus on one sock or\, if your needles are long enough (40" recommended)\, learn how to knit both simultaneously!\n\n?? Class Details\n\n        When: Two Sessions | Saturday\, Feb 21 & Saturday\, March 14*\n\n        Time: 9:00 AM   11:00 AM\n\n        Skill Level: Comfortable with knitting in the round.\n\n*Your homework between lessons is to knit the foot and be ready to knit the heel at the 3/14 class.\n\n?? Materials Needed (not included in class fee)\n\n        Needles: US 1 (2.25mm). Use whatever style you are comfortable with: DPNs\, 8" circulars\, Magic Loop (40" for two-at-a-time)\, Flexi-Flips\, or two circulars.\n\n        Yarn: One skein of fingering/sock weight yarn. We ask that you purchase your yarn from us for this class. We have 3 sock yarn lines to choose from.\n\n        Information: Please know your shoe size!\n\nPre-Class Preparation: We invite you to visit the shop before the first session to select your needles and yarn. This allows us time to order your supplies\, if needed\, and wind your yarn so you can start knitting right away!
X-ALT-DESC;FMTTYPE=text/html:<p>Join us for an immersive\, two-session workshop where you&rsquo\;ll learn the efficient way to knit socks:&nbsp\;<strong>Toe-Up.</strong>&nbsp\;Knitting from the toe up allows you to try on your sock as you go\, ensuring a perfect fit every time. Whether you want to focus on one sock at a time or tackle &quot\;Two-at-a-Time&quot\; to beat second-sock syndrome\, Sara will walk you through each row with expert tips and tricks.</p>\n\n<h3><span style="font-family:apple color emoji">??</span>&nbsp\;Skills Covered</h3>\n\n<p style="margin-left:0.5in"><span style="font-family:symbol\; font-size:10pt">&middot\;<span style="font-family:times new roman\; font-size:7pt">&nbsp\;&nbsp\;&nbsp\;&nbsp\;&nbsp\;&nbsp\;&nbsp\;</span></span><strong>Seamless Beginnings:</strong>&nbsp\;Learn Jenny&rsquo\;s Magic Cast-On for a smooth\, comfortable toe.</p>\n\n<p style="margin-left:0.5in"><span style="font-family:symbol\; font-size:10pt">&middot\;<span style="font-family:times new roman\; font-size:7pt">&nbsp\;&nbsp\;&nbsp\;&nbsp\;&nbsp\;&nbsp\;&nbsp\;</span></span><strong>The Short Row Heel:</strong>&nbsp\;Navigate a sleek\, sturdy heel construction &nbsp\;</p>\n\n<p style="margin-left:0.5in"><span style="font-family:symbol\; font-size:10pt">&middot\;<span style="font-family:times new roman\; font-size:7pt">&nbsp\;&nbsp\;&nbsp\;&nbsp\;&nbsp\;&nbsp\;&nbsp\;</span></span><strong>Reading Your Stitches:</strong>&nbsp\;Gain the confidence to identify your place in a pattern and understand your fabric.</p>\n\n<p style="margin-left:0.5in"><span style="font-family:symbol\; font-size:10pt">&middot\;<span style="font-family:times new roman\; font-size:7pt">&nbsp\;&nbsp\;&nbsp\;&nbsp\;&nbsp\;&nbsp\;&nbsp\;</span></span><strong>Custom Sizing:</strong>&nbsp\;Use your shoe size to calculate dimensions for a comfortable fit.</p>\n\n<p style="margin-left:0.5in"><span style="font-family:symbol\; font-size:10pt">&middot\;<span style="font-family:times new roman\; font-size:7pt">&nbsp\;&nbsp\;&nbsp\;&nbsp\;&nbsp\;&nbsp\;&nbsp\;</span></span><strong>One or Two at a Time:</strong>&nbsp\;Focus on one sock or\, if your needles are long enough (40&quot\; recommended)\, learn how to knit both simultaneously!</p>\n\n<h3><span style="font-family:apple color emoji">??</span>&nbsp\;Class Details</h3>\n\n<p style="margin-left:0.5in"><span style="font-family:symbol\; font-size:10pt">&middot\;<span style="font-family:times new roman\; font-size:7pt">&nbsp\;&nbsp\;&nbsp\;&nbsp\;&nbsp\;&nbsp\;&nbsp\;</span></span><strong>When:</strong>&nbsp\;Two Sessions | Saturday\, Feb 21 &amp\; Saturday\, March 14*</p>\n\n<p style="margin-left:0.5in"><span style="font-family:symbol\; font-size:10pt">&middot\;<span style="font-family:times new roman\; font-size:7pt">&nbsp\;&nbsp\;&nbsp\;&nbsp\;&nbsp\;&nbsp\;&nbsp\;</span></span><strong>Time:</strong>&nbsp\;9:00 AM &ndash\; 11:00 AM</p>\n\n<p style="margin-left:0.5in"><span style="font-family:symbol\; font-size:10pt">&middot\;<span style="font-family:times new roman\; font-size:7pt">&nbsp\;&nbsp\;&nbsp\;&nbsp\;&nbsp\;&nbsp\;&nbsp\;</span></span><strong>Skill Level:</strong>&nbsp\;Comfortable with knitting in the round.</p>\n\n<p style="margin-left:0.25in">*Your homework between lessons is to knit the foot and be ready to knit the heel at the 3/14 class.</p>\n\n<h3><span style="font-family:apple color emoji">??</span>&nbsp\;Materials Needed (not included in class fee)</h3>\n\n<p style="margin-left:0.5in"><span style="font-family:symbol\; font-size:10pt">&middot\;<span style="font-family:times new roman\; font-size:7pt">&nbsp\;&nbsp\;&nbsp\;&nbsp\;&nbsp\;&nbsp\;&nbsp\;</span></span><strong>Needles:</strong>&nbsp\;US 1 (2.25mm). Use whatever style you are comfortable with: DPNs\, 8&rdquo\; circulars\, Magic Loop (40&quot\; for two-at-a-time)\, Flexi-Flips\, or two circulars.</p>\n\n<p style="margin-left:0.5in"><span style="font-family:symbol\; font-size:10pt">&middot\;<span style="font-family:times new roman\; font-size:7pt">&nbsp\;&nbsp\;&nbsp\;&nbsp\;&nbsp\;&nbsp\;&nbsp\;</span></span><strong>Yarn:</strong>&nbsp\;One skein of fingering/sock weight yarn. We ask that you purchase your yarn from us for this class. We have 3 sock yarn lines to choose from.</p>\n\n<p style="margin-left:0.5in"><span style="font-family:symbol\; font-size:10pt">&middot\;<span style="font-family:times new roman\; font-size:7pt">&nbsp\;&nbsp\;&nbsp\;&nbsp\;&nbsp\;&nbsp\;&nbsp\;</span></span><strong>Information:</strong>&nbsp\;Please know your shoe size!</p>\n\n<p><strong>Pre-Class Preparation:</strong>&nbsp\;We invite you to visit the shop before the first session to select your needles and yarn. This allows us time to order your supplies\, if needed\, and wind your yarn so you can start knitting right away!</p>\n
LOCATION:Rabbit Row Yarns & Haberdashery 24 E. Market St Corning NY 14830
UID:e.869.19635
SEQUENCE:3
DTSTAMP:20260420T203158Z
URL:https://www.corningny.com/events/details/the-art-of-the-toe-up-sock-knitting-19635
END:VEVENT

END:VCALENDAR
