BEGIN:VCALENDAR
VERSION:2.0
PRODID:-//ChamberMaster//Event Calendar 2.0//EN
METHOD:PUBLISH
X-PUBLISHED-TTL:P3D
REFRESH-INTERVAL:P3D
CALSCALE:GREGORIAN
BEGIN:VEVENT
DTSTART;VALUE=DATE:20190920
DTEND;VALUE=DATE:20191221
TRANSP:TRANSPARENT
X-MICROSOFT-CDO-ALLDAYEVENT:TRUE
SUMMARY:The Earth Remembered Me: A Mixed Media Exhibition by Donna Morgan
DESCRIPTION:The ARTS Council of the Southern Finger Lakes  is pleased to announce Donna Morgan's The Earth Remembered Me\, a new exhibition at First Heritage Federal Credit Union\, at their Corning\, NY branch at 23 W Market St\, Suite 102!\n\n \n\nThe Earth Remembered Me was inspired by my love of our natural surroundings. My hope is that my artwork sparks a memory for the viewer of a time that they were completely one with nature.\n\n \n\nI began my journey with encaustic photographs and slowly moved into creating abstract concepts of my personal experiences with nature. I have achieved this by using several techniques that include mixed media\, collaged handmade papers and encaustic wax with oil paint. Many layers go into the work\, sometimes a total of 30 or more layers for each painting.\n\n \n\nThis exhibition will be on view from September 20 - December 20. An Opening Reception and Artist Talk will be held on September 27 from 5:00 - 8:00pm during Urban Arts Crawl.
X-ALT-DESC;FMTTYPE=text/html:<div><a href="http://earts.org/" style="color: rgb(255\, 97\, 25)\; cursor: pointer\; font-style: italic\; font-weight: bold\;" target="_blank">The ARTS Council of the Southern Finger Lakes</a>&nbsp\;&nbsp\;is pleased to announce&nbsp\;<a href="https://www.instagram.com/donnamorgan4171/" style="color: rgb(255\, 97\, 25)\; font-style: italic\; font-weight: bold\;" target="_blank">Donna Morgan&#39\;s</a>&nbsp\;<em>The Earth Remembered Me</em>\, a new exhibition at&nbsp\;<a href="https://www.fhfcu.org/" style="color: rgb(255\, 97\, 25)\; font-style: italic\; font-weight: bold\;" target="_blank">First Heritage Federal Credit Union</a>\,&nbsp\;at their Corning\, NY branch at 23 W Market St\, Suite 102!</div>\n\n<div>&nbsp\;</div>\n\n<div><strong><em>The Earth Remembered Me</em></strong><span style="font-family:verdana\,geneva\,sans-serif">&nbsp\;was inspired by my love of our natural surroundings. My hope is that my artwork sparks a memory for the viewer of a time that they were completely one with nature.</span></div>\n\n<div>&nbsp\;</div>\n\n<div><span style="font-family:verdana\,geneva\,sans-serif">I began my journey with encaustic photographs and slowly moved into creating abstract concepts of my personal experiences with nature. I have achieved this by using several techniques that include mixed media\, collaged handmade papers and encaustic wax with oil paint. Many layers go into the work\, sometimes a total of 30 or more layers for each painting.</span></div>\n\n<div>&nbsp\;</div>\n\n<div><strong>This exhibition will be on view from September 20 - December 20</strong>. An Opening Reception and Artist Talk will be held on September 27 from 5:00 - 8:00pm during&nbsp\;<a href="https://urbancorning.com/urban-arts-crawl/" style="color: rgb(255\, 97\, 25)\; font-style: italic\; font-weight: bold\;" target="_blank">Urban Arts Crawl</a>.</div>\n
LOCATION:First Heritage Federal Credit Union - Corning Branch 23 W Market St\, Suite 102 Corning\, NY 14830
UID:e.869.10754
SEQUENCE:3
DTSTAMP:20260421T083216Z
URL:https://www.corningny.com/events/details/the-earth-remembered-me-a-mixed-media-exhibition-by-donna-morgan-10754
END:VEVENT

END:VCALENDAR
