BEGIN:VCALENDAR
VERSION:2.0
PRODID:-//ChamberMaster//Event Calendar 2.0//EN
METHOD:PUBLISH
X-PUBLISHED-TTL:P3D
REFRESH-INTERVAL:P3D
CALSCALE:GREGORIAN
BEGIN:VEVENT
DTSTART:20260524T130000Z
DTEND:20260524T210000Z
X-MICROSOFT-CDO-ALLDAYEVENT:FALSE
SUMMARY:The Studio's 30th Birthday Event
DESCRIPTION:The Studio is turning 30 and we want to celebrate our birthday with you!\n\nJoin us at The Studio for a day of cupcakes and fun.\n\n\n	Enjoy Make Your Own Glass including the special Ancient Glass Sculpture inspired by the Museum's past exhibition Dig Deeper: Discovering an Ancient Glass Workshop. \n	Shop the exclusive 30th anniversary merchandise \n	Watch Craft in America and Studio Residency glassmaking films in the Ackerman Family Theater. \n\n\nDon't miss The Studio at 30: Shaping the Future of Glass Since 1996\, on view throughout the day in the Burke Room for Ideas in Glass. \n\nThis event is free\, family-friendly\, and open to all.
X-ALT-DESC;FMTTYPE=text/html:<p>The Studio is turning 30 and we want to celebrate our birthday with you!</p>\n\n<p>Join us at The Studio for a day of cupcakes and fun.</p>\n\n<ul>\n	<li>Enjoy<span style="font-size:20.9px">&nbsp\;Make Your Own Glass</span>&mdash\;including the special Ancient Glass Sculpture inspired by the Museum&rsquo\;s past exhibition&nbsp\;<span style="font-size:20.9px">Dig Deeper: Discovering an Ancient Glass Workshop.</span>&nbsp\;</li>\n	<li>Shop the exclusive 30th anniversary merchandise&nbsp\;</li>\n	<li>Watch&nbsp\;<span style="font-size:20.9px">Craft in America</span>&nbsp\;and Studio Residency glassmaking films in the Ackerman Family Theater.&nbsp\;</li>\n</ul>\n\n<p>Don&rsquo\;t miss&nbsp\;<a href="https://whatson.cmog.org/studio-program/opening-reception-studio-30-shaping-future-glass-1996" style="box-sizing: border-box\; background: transparent\; font-size: 20.9px\; margin: 0px\; padding: 0px\; text-decoration-thickness: 0.2rem\; text-decoration-color: oklch(0.8477 0.093 198.62)\; vertical-align: baseline\; color: oklch(0.5477 0.093 198.62)\; font-weight: 700\; transition-duration: 0.4s\; transition-property: color\, text-decoration-color\, -webkit-text-decoration-color\;">The Studio at 30: Shaping the Future of Glass Since 1996</a>\, on view throughout the day in the Burke Room for Ideas in Glass.&nbsp\;</p>\n\n<p>This event is free\, family-friendly\, and open to all.</p>\n
LOCATION:Corning Museum of Glass
UID:e.869.19690
SEQUENCE:3
DTSTAMP:20260420T163809Z
URL:https://www.corningny.com/events/details/the-studio-s-30th-birthday-event-19690
END:VEVENT

END:VCALENDAR
