BEGIN:VCALENDAR
VERSION:2.0
PRODID:-//ChamberMaster//Event Calendar 2.0//EN
METHOD:PUBLISH
X-PUBLISHED-TTL:P3D
REFRESH-INTERVAL:P3D
CALSCALE:GREGORIAN
BEGIN:VEVENT
DTSTART:20211122T140000Z
DTEND:20220103T220000Z
X-MICROSOFT-CDO-ALLDAYEVENT:FALSE
SUMMARY:Tree of Life Menorah
DESCRIPTION:The Tree of Life Menorah brings together fine leaves\, sturdy branches\, a thick tree trunk\, and an intricate system of roots all made possible through flameworked glass shaped over a 4\,000 F torch.\n\nThe menorah is a prominent symbol in the Jewish faith and plays a central role in the celebration of Hanukkah. Likewise\, the "Tree of Life" carries different meanings across faiths\, but holds special meaning in Judaism for its connection to the Torah\, the Jewish people's most sacred text. Genesis\, the first book of the Torah\, locates the "Tree of Life" at the heart of the Garden of Eden (2.4 3:24)\, and Proverbs 3:18 teaches: "[The Torah] is a tree of life to those who hold her close."\n\nFor many\, the tree represents growth\, stability\, and fertility\, as well as hope for and connection to future generations. The extensive roots and intertwined branches illustrate family connections.\n\nGlass candles with flames were also created and will be added each day of Hanukkah.\n\nThe Tree of Life Menorah was developed in partnership with Rabbi Todd Markley of Temple Beth Shalom\, Needham\, MA.
X-ALT-DESC;FMTTYPE=text/html:<p>The&nbsp\;<span style="font-size:18px">Tree of Life Menorah&nbsp\;</span>brings together fine leaves\, sturdy branches\, a thick tree trunk\, and an intricate system of roots&mdash\;all made possible through flameworked glass shaped over a 4\,000&deg\;F torch.</p>\n\n<p>The menorah is a prominent symbol in the Jewish faith and plays a central role in the celebration of Hanukkah. Likewise\, the &ldquo\;Tree of Life&rdquo\; carries different meanings across faiths\, but holds special meaning in Judaism for its connection to the Torah\, the Jewish people&rsquo\;s most sacred text. Genesis\, the first book of the Torah\, locates the &ldquo\;Tree of Life&rdquo\; at the heart of the Garden of Eden (2.4&ndash\;3:24)\, and Proverbs 3:18 teaches: &ldquo\;[The Torah] is a tree of life to those who hold her close.&rdquo\;</p>\n\n<p>For many\, the tree represents growth\, stability\, and fertility\, as well as hope for and connection to future generations. The extensive roots and intertwined branches illustrate family connections.</p>\n\n<p>Glass candles with flames were also created and will be added each day of Hanukkah.</p>\n\n<p>The<span style="font-size:18px">&nbsp\;Tree of Life Menorah</span>&nbsp\;was developed in partnership with Rabbi Todd Markley of Temple Beth Shalom\, Needham\, MA.</p>\n
LOCATION:
UID:e.869.12962
SEQUENCE:3
DTSTAMP:20260425T034809Z
URL:https://www.corningny.com/events/details/tree-of-life-menorah-12962
END:VEVENT

END:VCALENDAR
