BEGIN:VCALENDAR
VERSION:2.0
PRODID:-//ChamberMaster//Event Calendar 2.0//EN
METHOD:PUBLISH
X-PUBLISHED-TTL:P3D
REFRESH-INTERVAL:P3D
CALSCALE:GREGORIAN
BEGIN:VEVENT
DTSTART:20260122T133000Z
DTEND:20260122T150000Z
X-MICROSOFT-CDO-ALLDAYEVENT:FALSE
SUMMARY:Tri-County Government Affairs Roundtable
DESCRIPTION:Kick off the year by connecting directly with the leaders shaping policies that impact your business.\n\n\n\nThis exclusive Chamber member event features Senator Thomas O'Mara\, Assemblyman Phil Palmesano\, Assemblyman Christopher Friend\, and representatives from the offices of Congressman Nick Langworthy\, Congresswoman Claudia Tenney\, and Governor Kathy Hochul.\n\nEngage in meaningful conversation\, gain insights on the year ahead\, and network with fellow business leaders. Attendance is complimentary for Chamber members\, and breakfast will be provided. Reserve your seat today for this unique opportunity.
X-ALT-DESC;FMTTYPE=text/html:<p data-end="450" data-start="87"><strong data-end="192" data-start="87">Kick off the year by connecting directly with the leaders shaping policies that impact your business.</strong><br data-end="195" data-start="192" />\n<br />\nThis exclusive Chamber member event features Senator Thomas O&#39\;Mara\, Assemblyman Phil Palmesano\, Assemblyman Christopher Friend\, and representatives from the offices of Congressman Nick Langworthy\, Congresswoman Claudia Tenney\, and Governor Kathy Hochul.</p>\n\n<p data-end="697" data-start="452">Engage in meaningful conversation\, gain insights on the year ahead\, and network with fellow business leaders. Attendance is complimentary for Chamber members\, and breakfast will be provided. Reserve your seat today for this unique opportunity.</p>\n
LOCATION:Watkins Glen Harbor Hotel 16 North Franklin Street Watkins Glen\, New York
UID:e.869.19657
SEQUENCE:3
DTSTAMP:20260420T214257Z
URL:https://www.corningny.com/events/details/tri-county-government-affairs-roundtable-19657
END:VEVENT

END:VCALENDAR
