BEGIN:VCALENDAR
VERSION:2.0
PRODID:-//ChamberMaster//Event Calendar 2.0//EN
METHOD:PUBLISH
X-PUBLISHED-TTL:P3D
REFRESH-INTERVAL:P3D
CALSCALE:GREGORIAN
BEGIN:VEVENT
DTSTART:20210212T160000Z
DTEND:20210215T020000Z
X-MICROSOFT-CDO-ALLDAYEVENT:FALSE
SUMMARY:Valentine's with the Holiday Inn Elmira
DESCRIPTION:Valentine's Specials - Available Feb 12\, 13 and 14 ONLY\n\nJoin us for a little different than normal Valentine's Day at the Elmira Holiday Inn. Call ahead for Valentine's Dine In reservations or carryout off a special 2 for $50 menu with a champagne toast. Drink specials will be running throughout the night. Make the evening extra special by booking a Valentine's Overnight package which includes the special dinner\, an overnight in the hotel and all taxes for $150 per couple!  \n\nPlease note: Must be 21 & over\n\nPackages Include:\n\nSpecial Room Service Dinner or Dine In \n\nOvernight Accommodations\n\nChampagne Toast \n\nAll Taxes Included\n\nPackage Price: $150.00\n\nFor Reservations call: 607-734-0402 \n\n\n\n-----------------------------------------\n\nEnjoy Valentine's at home with a take out order or dine-in with us at Anthony's Restaurant off of a special 2 for $50 Menu. Available from 11 a.m. - 9 p.m.\n\n\n\nDrink Specials Available for both dine-in and take out\n\n\n\nChicken Cordon Bleu\n\n10oz New York Strip Steak with sauteed mushrooms and onions\n\nParmesan Crusted Haddock\n\n\n\nAbove entrees are served with: \n\nTossed Salad\, Mashed Potatoes & Gravy\, Green Beans\n\n\n\nYour Dinner Also comes with:\n\nA Split of Champagne\n\n\n\nDine in availability is based on Chemung County Covid Regulations
X-ALT-DESC;FMTTYPE=text/html:<p><span style="font-size:14pt">Valentine&#39\;s Specials - Available Feb 12\, 13 and 14 ONLY</span></p>\n\n<p>Join us for a little different than normal Valentine&#39\;s Day at the Elmira Holiday Inn. Call ahead for Valentine&#39\;s Dine In reservations or carryout off a special 2 for $50 menu with a champagne toast. Drink specials will be running throughout the night. Make the evening extra special by booking a Valentine&#39\;s Overnight package which includes the special dinner\, an overnight in the hotel and all taxes for $150 per couple!&nbsp\;&nbsp\;</p>\n\n<p>Please note: Must be 21 &amp\; over</p>\n\n<p>Packages Include:</p>\n\n<p>Special Room Service Dinner or Dine In&nbsp\;<br />\nOvernight Accommodations<br />\nChampagne Toast&nbsp\;<br />\nAll Taxes Included</p>\n\n<div><span style="color:rgb(51\, 51\, 51)\; font-size:13px">Package Price:&nbsp\;</span>$150.00<br />\nFor Reservations call: 607-734-0402&nbsp\;<br />\n<br />\n-----------------------------------------<br />\nEnjoy Valentine&#39\;s at home with a take out order or dine-in with us at Anthony&#39\;s Restaurant off of a special&nbsp\;2 for $50 Menu. Available from 11 a.m. - 9 p.m.<br />\n<br />\nDrink Specials Available for both dine-in and take out<br />\n<br />\nChicken Cordon Bleu<br />\n10oz New York Strip Steak with sauteed mushrooms and onions<br />\nParmesan Crusted Haddock<br />\n<br />\nAbove entrees are served with:&nbsp\;<br />\nTossed Salad\, Mashed Potatoes &amp\; Gravy\, Green Beans<br />\n<br />\nYour Dinner Also comes with:<br />\nA Split of Champagne<br />\n<br />\nDine in availability is based on Chemung County Covid Regulations</div>\n
LOCATION:Holiday Inn Elmira-Horseheads 760 E. Water Street Elmira\, NY 14901
UID:e.869.11372
SEQUENCE:3
DTSTAMP:20260421T194952Z
URL:https://www.corningny.com/events/details/valentine-s-with-the-holiday-inn-elmira-11372
END:VEVENT

END:VCALENDAR
