BEGIN:VCALENDAR
VERSION:2.0
PRODID:-//ChamberMaster//Event Calendar 2.0//EN
METHOD:PUBLISH
X-PUBLISHED-TTL:P3D
REFRESH-INTERVAL:P3D
CALSCALE:GREGORIAN
BEGIN:VEVENT
DTSTART:20200501T230000Z
DTEND:20200501T231500Z
X-MICROSOFT-CDO-ALLDAYEVENT:FALSE
SUMMARY:Virtual Trivia sponsored by Journey Corning
DESCRIPTION:Bobby K Entertainment presents a FREE virtual trivia game played REMOTELY on smart phones\, laptops\, desktops or tablets.  The theme is the Southern Tier and we partner with Small Businesses and charities to give our community something to do\, raise awareness and hopefully raise a bit of money.\n\nThis week's trivia is proudly sponsored by Journey 333 Corning! Go to BKQuiz.com/SmallBizTriv to join in! The Top 3 Winners will receive Gift Certificates!\n\nEasy to play and lots of fun!
X-ALT-DESC;FMTTYPE=text/html:<p>Bobby K Entertainment presents a FREE virtual trivia game played REMOTELY on smart phones\, laptops\, desktops or tablets.&nbsp\; The theme is the Southern Tier and we partner with Small Businesses and charities to give our community something to do\, raise awareness and hopefully raise a bit of money.</p>\n\n<p>This week&#39\;s trivia is proudly sponsored by Journey 333 Corning! Go to&nbsp\;BKQuiz.com/SmallBizTriv to join in! The Top 3 Winners will receive Gift Certificates!</p>\n\n<p>Easy to play and lots of fun!&nbsp\;</p>\n
LOCATION:BKQuiz.com/SmallBizTriv
UID:e.869.11184
SEQUENCE:3
DTSTAMP:20260425T233042Z
URL:https://www.corningny.com/events/details/virtual-trivia-sponsored-by-journey-corning-11184
END:VEVENT

END:VCALENDAR
