BEGIN:VCALENDAR
VERSION:2.0
PRODID:-//ChamberMaster//Event Calendar 2.0//EN
METHOD:PUBLISH
X-PUBLISHED-TTL:P3D
REFRESH-INTERVAL:P3D
CALSCALE:GREGORIAN
BEGIN:VEVENT
DTSTART:20260117T140000Z
DTEND:20260117T210000Z
X-MICROSOFT-CDO-ALLDAYEVENT:FALSE
SUMMARY:Weave a 25" North Carolina Snowflake with Diane\, The Basket Wiz! ??
DESCRIPTION:If you've woven any baskets or stars with Diane\, this class is perfect for Intermediate Basket Weavers or motivated Advanced Beginners who are ready to tackle larger-scale projects and color integration using flat reeds.\n\nAll materials and instruction will be provided. \n\n??? - Saturday\, January 17 - 9am - 4pm\n\nClass is estimated to take 6.5 hours with a break for lunch on your own. Or you can choose to work through lunch.  \n\nAges 16 and up
X-ALT-DESC;FMTTYPE=text/html:<p>If you&#39\;ve woven any baskets or stars with Diane\, this class is perfect for&nbsp\;<strong>Intermediate Basket Weavers</strong>&nbsp\;or motivated&nbsp\;<strong>Advanced Beginners</strong>&nbsp\;who are ready to tackle larger-scale projects and color integration using flat reeds.</p>\n\n<p>All materials and instruction will be provided.&nbsp\;</p>\n\n<p>??? - Saturday\, January 17 - 9am - 4pm</p>\n\n<p>Class is estimated to take 6.5 hours with a break for lunch on your own. Or you can choose to work through lunch.&nbsp\;&nbsp\;</p>\n\n<p>Ages 16 and up</p>\n
LOCATION:Rabbit Row Yarns & Haberdashery 24 E Market St Corning\, NY 14830
UID:e.869.19634
SEQUENCE:3
DTSTAMP:20260420T214533Z
URL:https://www.corningny.com/events/details/weave-a-25-north-carolina-snowflake-with-diane-the-basket-wiz-19634
END:VEVENT

END:VCALENDAR
