BEGIN:VCALENDAR
VERSION:2.0
PRODID:-//ChamberMaster//Event Calendar 2.0//EN
METHOD:PUBLISH
X-PUBLISHED-TTL:P3D
REFRESH-INTERVAL:P3D
CALSCALE:GREGORIAN
BEGIN:VEVENT
DTSTART;VALUE=DATE:20200925
DTEND;VALUE=DATE:20201101
TRANSP:TRANSPARENT
X-MICROSOFT-CDO-ALLDAYEVENT:TRUE
SUMMARY:Williamson Road District Virtual Golf Tournament
DESCRIPTION:Williamson Road District\n\nBoy Scouts of America\n\nFirst Virtual Golf Tournament\n\n\n\nJoin the tournament at Events.GolfStatus.com  (Williamson Road District Golf Tournament)\n\n\n\n1 - Donate at least $25 to be eligible for all prizes\n\nOr donate what you can and support our Scouts!\n\n\n\n2 - Play the course of your choice with the players of your choice between now and October 31\n\nShare scores of your game at Events.GolfStatus.com\n\n(Even if you can't or don't want to play\, you can still win prizes!)\n\n\n\n3 - Prizes will be awarded via a random drawing Zoom event on Nov. 4 at 7pm\n\n\n\nLearn more on the tournament website
X-ALT-DESC;FMTTYPE=text/html:<br />\n<span style="font-size:14px\;">Williamson Road District<br />\nBoy Scouts of America<br />\nFirst Virtual Golf Tournament<br />\n<br />\nJoin the tournament at Events.GolfStatus.com&nbsp\; (Williamson Road District Golf Tournament)<br />\n<br />\n1 - Donate at least $25 to be eligible for all prizes<br />\nOr donate what you can and support our Scouts!<br />\n<br />\n2 - Play the course of your choice with the players of your choice between now and October 31<br />\nShare scores of your game at Events.GolfStatus.com<br />\n(Even if you can&#39\;t or don&#39\;t want to play\, you can still win prizes!)<br />\n<br />\n3 - Prizes will be awarded via a random drawing Zoom event on Nov. 4 at 7pm<br />\n<br />\nLearn more on the <a href="https://events.golfstatus.com/event/72b75ecd-a7d0-422e-9d5a-9b7b8cd83789/details/registration-details">tournament website</a></span>
LOCATION:
UID:e.869.11261
SEQUENCE:3
DTSTAMP:20260421T042931Z
URL:https://www.corningny.com/events/details/williamson-road-district-virtual-golf-tournament-11261
END:VEVENT

END:VCALENDAR
