BEGIN:VCALENDAR
VERSION:2.0
PRODID:-//ChamberMaster//Event Calendar 2.0//EN
METHOD:PUBLISH
X-PUBLISHED-TTL:P3D
REFRESH-INTERVAL:P3D
CALSCALE:GREGORIAN
BEGIN:VEVENT
DTSTART;VALUE=DATE:20210213
DTEND;VALUE=DATE:20210222
TRANSP:TRANSPARENT
X-MICROSOFT-CDO-ALLDAYEVENT:TRUE
SUMMARY:Winter Break
DESCRIPTION:Shake off the snow and stop into the Museum during winter break!\n\n\n\n\nEnjoy a printed interactive guide that will help you explore the collection and find lots of family-friendly activities that will keep both you and the kids happy and busy.\n\nAdmission for kids and teens (17 and under) is always free\, and local residents (living in ZIP codes beginning with 148\, 149\, or 169) can visit for just $10\, making Winter Break at the Museum an affordable option for families of all sizes.\n\n \n\nMarble Day\n\n\n\nJoin us on February 14\, 2021 for a fun-filled day of marble-mania! \n\n \n\n\nMake Your Own Glass\n\n\n\n\n\nTry your hand at making your own glass! Pop over to The Studio and choose from one of our many projects including a Snowperson. This experience is a favorite\, so make sure you book early.\n\nGlassmaking Demos\n\n\n\nEnjoy live\, narrated glassblowing and flameworking demonstrations throughout the day. All demonstrations are included in the cost of admission.\n\nSee our Snow Family\n\n\n\nDon't miss our adorable life-size snow family\, including Pi-Rex the snow dog guaranteed not to melt indoors\, on view in the Courtyard Lobby.
X-ALT-DESC;FMTTYPE=text/html:<div style="margin-left:0px\; margin-right:0px\; text-align:left">\n<p style="margin-left:0px\; margin-right:0px">Shake off the snow and stop into the Museum during winter break!</p>\n</div>\n\n<div style="margin-left:0px\; margin-right:0px\; text-align:left">\n<div style="margin-left:0px\; margin-right:0px">\n<p style="margin-left:0px\; margin-right:0px">Enjoy a printed interactive guide that will help you explore the collection and find lots of family-friendly activities that will keep both you and the kids happy and busy.</p>\n\n<p style="margin-left:0px\; margin-right:0px">Admission for kids and teens (17 and under) is always free\, and local residents (living in ZIP codes beginning with 148\, 149\, or 169) can visit for just $10\, making Winter Break at the Museum an affordable option for families of all sizes.<br />\n&nbsp\;</p>\n\n<h2 style="font-style:normal\; margin-left:0px\; margin-right:0px\; text-align:left">Marble Day</h2>\n\n<div style="margin-left:0px\; margin-right:0px\; text-align:left">\n<div style="margin-left:0px\; margin-right:0px">\n<p style="margin-left:0px\; margin-right:0px">Join us on February 14\, 2021 for&nbsp\;a fun-filled day of marble-mania!&nbsp\;<br />\n&nbsp\;</p>\n\n<div style="margin-left:0px\; margin-right:0px\; text-align:left">\n<div style="margin-left:0px\; margin-right:0px">Make Your Own Glass</div>\n</div>\n\n<div style="margin-left:0px\; margin-right:0px\; text-align:left">\n<div style="margin-left:0px\; margin-right:0px">\n<div style="margin-left:0px\; margin-right:0px">\n<p style="margin-left:0px\; margin-right:0px">Try your hand at making your own glass! Pop over to The Studio and choose from one of our many projects including a Snowperson. This experience is a favorite\, so make sure you book early.</p>\n\n<h2 style="font-style:normal\; margin-left:0px\; margin-right:0px\; text-align:left">Glassmaking Demos</h2>\n\n<div style="margin-left:0px\; margin-right:0px\; text-align:left">\n<div style="margin-left:0px\; margin-right:0px">\n<p style="margin-left:0px\; margin-right:0px">Enjoy live\, narrated glassblowing and flameworking demonstrations throughout the day. All demonstrations are included in the cost of admission.</p>\n\n<h2 style="font-style:normal\; margin-left:0px\; margin-right:0px\; text-align:left">See our Snow Family</h2>\n\n<div style="margin-left:0px\; margin-right:0px\; text-align:left">\n<div style="margin-left:0px\; margin-right:0px">\n<p style="margin-left:0px\; margin-right:0px">Don&rsquo\;t miss our adorable life-size snow family\, including Pi-Rex the snow dog&mdash\;guaranteed not to melt indoors\, on view in the Courtyard Lobby.</p>\n</div>\n</div>\n</div>\n</div>\n</div>\n</div>\n</div>\n</div>\n</div>\n\n<p style="margin-left:0px\; margin-right:0px">&nbsp\;</p>\n</div>\n</div>\n
LOCATION:
UID:e.869.11465
SEQUENCE:3
DTSTAMP:20260420T033957Z
URL:https://www.corningny.com/events/details/winter-break-02-13-2021-11465
END:VEVENT

END:VCALENDAR
