BEGIN:VCALENDAR
VERSION:2.0
PRODID:-//ChamberMaster//Event Calendar 2.0//EN
METHOD:PUBLISH
X-PUBLISHED-TTL:P3D
REFRESH-INTERVAL:P3D
CALSCALE:GREGORIAN
BEGIN:VEVENT
DTSTART:20220127T140000Z
DTEND:20220127T150000Z
X-MICROSOFT-CDO-ALLDAYEVENT:FALSE
SUMMARY:Workforce Trends 2022
DESCRIPTION:Workforce Trends Shaping 2022 - and How You Can Prepare\n\n\n\n\n\nJoin us for a look at local workforce issues.  Christian Harris\, with the NYS Department of Labor\, and Kellie Christopher\, with CSS Workforce\, will give an overview of current trends and training opportunities\n\n\n\nChristian will showcase local labor market trends through the pandemic and explore various reasons why individuals are not currently working. He will also offer time to discuss ways to attract disconnected individuals back into the workforce.\n\n\n\nKellie will share details on training and development available for local businesses\, and funding opportunities to take advantage of.\n\n\n\n\n\nChristian Harris serves as a Regional Labor Market Analyst for the New York State Department of Labor's Division of Research and Statistics.  The Research Division is recognized as the primary source of labor market information in the State.  \n\nHe's responsible for the analysis of workforce related trends in the Southern Tier Region of New York State.\n\n\n\nKellie Christopher is Senior Business Partner at CSS Workforce NY.\n\n\n\n\n\nPlease register for the session\, and the zoom link will be emailed to all participants ahead of the program.
X-ALT-DESC;FMTTYPE=text/html:<br />\n<span style="font-size:18px\;">Workforce Trends Shaping 2022 - and How You Can Prepare</span><br />\n<br />\n<br />\n<span style="font-size:14px\;">Join us for a look at local workforce issues.&nbsp\; Christian Harris\, with the NYS Department of Labor\, and Kellie Christopher\, with CSS Workforce\, will give an overview of current trends and training opportunities<br />\n<br />\nChristian will showcase local labor market trends through the pandemic and explore various reasons why individuals are not currently working. He will also offer time to discuss ways to attract disconnected individuals back into the workforce.<br />\n<br />\nKellie will share details on training and development available for local businesses\, and funding opportunities to take advantage of.<br />\n<br />\n<br />\n<em>Christian Harris serves as a Regional Labor Market Analyst for the New York State Department of Labor&rsquo\;s Division of Research and Statistics.&nbsp\; The Research Division is recognized as the primary source of labor market information in the State.&nbsp\; </em><br />\n<em>He&rsquo\;s responsible for the analysis of workforce related trends in the Southern Tier Region of New York State.<br />\n<br />\nKellie Christopher is Senior Business Partner at CSS Workforce NY.</em><br />\n<br />\n<br />\nPlease register for the session\, and the zoom link will be emailed to all participants ahead of the program.</span>
LOCATION:via zoom
UID:e.869.13045
SEQUENCE:3
DTSTAMP:20260425T011313Z
URL:https://www.corningny.com/events/details/workforce-trends-2022-13045
END:VEVENT

END:VCALENDAR
