BEGIN:VCALENDAR
VERSION:2.0
PRODID:-//ChamberMaster//Event Calendar 2.0//EN
METHOD:PUBLISH
X-PUBLISHED-TTL:P3D
REFRESH-INTERVAL:P3D
CALSCALE:GREGORIAN
BEGIN:VEVENT
DTSTART:20200915T220000Z
DTEND:20200916T000000Z
X-MICROSOFT-CDO-ALLDAYEVENT:FALSE
SUMMARY:Writers Block featuring Christy Nicholas
DESCRIPTION:The Writers Block featuring Christy Nicholas\n\nTuesday\, 9/15 from 6   8PM\n\n\n\nGrab a warm cup of coffee or tea and snuggle into your couch for a featured reading followed by a Q&A session and open mic reading.\n\n\n\nChristy has two travel guides and twelve novels published. She wants to expose the incredible beauty in this world\, hidden beneath the everyday grime of familiarity and habit\, and share it with others. She uses characters out of time and places infused with magic and myth\, writing magical realism stories in both historical fantasy and time travel flavors. \n\n\n\nFull information here: facebook.com/events/957943864708388
X-ALT-DESC;FMTTYPE=text/html:<strong>The Writers Block featuring Christy Nicholas</strong><br />\nTuesday\, 9/15 from 6 &ndash\; 8PM<br />\n<br />\nGrab a warm cup of coffee or tea and snuggle into your couch for a featured reading followed by a Q&amp\;A session and open mic reading.<br />\n<br />\nChristy has two travel guides and twelve novels published. She wants to expose the incredible beauty in this world\, hidden beneath the everyday grime of familiarity and habit\, and share it with others. She uses characters out of time and places infused with magic and myth\, writing magical realism stories in both historical fantasy and time travel flavors.&nbsp\;<br />\n<br />\nFull information here:&nbsp\;<a href="http://facebook.com/events/957943864708388">facebook.com/events/957943864708388</a>
LOCATION:Virtual Event via Zoom. Full information here: facebook.com/events/957943864708388
UID:e.869.11256
SEQUENCE:3
DTSTAMP:20260421T051749Z
URL:https://www.corningny.com/events/details/writers-block-featuring-christy-nicholas-11256
END:VEVENT

END:VCALENDAR
