BEGIN:VCALENDAR
VERSION:2.0
PRODID:-//ChamberMaster//Event Calendar 2.0//EN
METHOD:PUBLISH
X-PUBLISHED-TTL:P3D
REFRESH-INTERVAL:P3D
CALSCALE:GREGORIAN
BEGIN:VEVENT
DTSTART:20210203T150000Z
DTEND:20210203T170000Z
X-MICROSOFT-CDO-ALLDAYEVENT:FALSE
SUMMARY:You Design it\; We Make It! | My Friendly Monster
DESCRIPTION:Whether they have three eyes and an antenna\, or spikey hair and a snaggle tooth\, we want to see your version of a wild\, friendly monster you'd be happy to spend a silly day with.\n\nSubmit a drawing and our glassmakers will choose one idea and make that piece during our live demo.\n\nThe deadline for submissions is 10:00 pm on Sunday\, January 31.\n\n \n\nHow to Join and Connect Live\n\n\n\nFor our next You Design It\; We Make It! online event\, watch on Wednesday\, February 3 at 10:00 am EDT\, live on YouTube.\n\nThe Hot Glass Team will be available to chat and answer your questions in real time as we watch this demonstration together.\n\nUnable to watch the live event? The Live Stream will be uploaded to YouTube. Plus\, find hundreds of hours of live streamed demonstrations on the Corning Museum of Glass YouTube channel.\n\nWe at The Corning Museum of Glass are bringing you this exciting new series of live online events as a way for our communities to connect with glassmakers and world-class visiting Guest Artists.
X-ALT-DESC;FMTTYPE=text/html:<p style="margin-left:0px\; margin-right:0px\; text-align:left">Whether they have three eyes and an antenna\, or spikey hair and a snaggle tooth\, we want to see your version of a wild\, friendly monster you&rsquo\;d be happy to spend a silly day with.</p>\n\n<p style="margin-left:0px\; margin-right:0px\; text-align:left">Submit a drawing&nbsp\;and our glassmakers will choose one idea&nbsp\;and make that piece during our&nbsp\;live demo.</p>\n\n<p style="margin-left:0px\; margin-right:0px\; text-align:left">The deadline for submissions is 10:00 pm on&nbsp\;Sunday\, January 31.<br />\n&nbsp\;</p>\n\n<h3 style="color:rgb(1\, 1\, 2)\; font-style:normal\; margin-left:0px\; margin-right:0px\; text-align:left">How to Join and Connect Live</h3>\n\n<div style="margin-left:0px\; margin-right:0px\; text-align:left">\n<div style="margin-left:0px\; margin-right:0px">\n<p style="margin-left:0px\; margin-right:0px">For our next <em>You Design It\; We Make It!</em> online event\, watch on Wednesday\, February 3&nbsp\;at 10:00 am EDT\, live on<a href="https://www.youtube.com/user/corningmuseumofglass" style="background-attachment: scroll\; background-clip: border-box\; background-color: transparent\; background-image: none\; background-origin: padding-box\; background-position-x: 0%\; background-position-y: 0%\; background-repeat: repeat\; background-size: auto\; box-sizing: border-box\; color: rgb(0\, 129\, 160)\; font-size: 100%\; font-weight: 600\; margin-bottom: 0px\; margin-left: 0px\; margin-right: 0px\; margin-top: 0px\; padding-bottom: 0px\; padding-left: 0px\; padding-right: 0px\; padding-top: 0px\; text-decoration: none\; transition-delay: 0s\; transition-duration: 0.4s\; transition-property: color\; transition-timing-function: ease\; vertical-align: baseline\;"> YouTube</a>.</p>\n\n<p style="margin-left:0px\; margin-right:0px">The Hot Glass Team will be available to chat and answer your questions in real time as we watch this demonstration together.</p>\n\n<p style="margin-left:0px\; margin-right:0px">Unable to watch the live event?&nbsp\;The Live Stream will be uploaded to&nbsp\;<a href="https://www.youtube.com/user/corningmuseumofglass" style="background-attachment: scroll\; background-clip: border-box\; background-color: transparent\; background-image: none\; background-origin: padding-box\; background-position-x: 0%\; background-position-y: 0%\; background-repeat: repeat\; background-size: auto\; box-sizing: border-box\; color: rgb(0\, 129\, 160)\; font-size: 100%\; font-weight: 600\; margin-bottom: 0px\; margin-left: 0px\; margin-right: 0px\; margin-top: 0px\; padding-bottom: 0px\; padding-left: 0px\; padding-right: 0px\; padding-top: 0px\; text-decoration: none\; transition-delay: 0s\; transition-duration: 0.4s\; transition-property: color\; transition-timing-function: ease\; vertical-align: baseline\;">YouTube</a>.&nbsp\;Plus\, find hundreds of hours of live streamed demonstrations on the&nbsp\;Corning Museum of Glass YouTube channel.</p>\n\n<p style="margin-left:0px\; margin-right:0px">We at The Corning Museum of Glass are bringing you this exciting new series of live online events as a way for our communities to connect with glassmakers and world-class visiting Guest Artists.</p>\n</div>\n</div>\n
LOCATION:The Corning Museum of Glass Amphitheater
UID:e.869.11463
SEQUENCE:3
DTSTAMP:20260421T194936Z
URL:https://www.corningny.com/events/details/you-design-it-we-make-it-my-friendly-monster-11463
END:VEVENT

END:VCALENDAR
